BEGIN:VCALENDAR
VERSION:2.0
PRODID:-//College of Architecture, Design and Construction - ECPv6.3.3.1//NONSGML v1.0//EN
CALSCALE:GREGORIAN
METHOD:PUBLISH
X-WR-CALNAME:College of Architecture, Design and Construction
X-ORIGINAL-URL:https://cadc.auburn.edu
X-WR-CALDESC:Events for College of Architecture, Design and Construction
REFRESH-INTERVAL;VALUE=DURATION:PT1H
X-Robots-Tag:noindex
X-PUBLISHED-TTL:PT1H
BEGIN:VTIMEZONE
TZID:America/Chicago
BEGIN:DAYLIGHT
TZOFFSETFROM:-0600
TZOFFSETTO:-0500
TZNAME:CDT
DTSTART:20240310T080000
END:DAYLIGHT
BEGIN:STANDARD
TZOFFSETFROM:-0500
TZOFFSETTO:-0600
TZNAME:CST
DTSTART:20241103T070000
END:STANDARD
BEGIN:DAYLIGHT
TZOFFSETFROM:-0600
TZOFFSETTO:-0500
TZNAME:CDT
DTSTART:20250309T080000
END:DAYLIGHT
BEGIN:STANDARD
TZOFFSETFROM:-0500
TZOFFSETTO:-0600
TZNAME:CST
DTSTART:20251102T070000
END:STANDARD
BEGIN:DAYLIGHT
TZOFFSETFROM:-0600
TZOFFSETTO:-0500
TZNAME:CDT
DTSTART:20260308T080000
END:DAYLIGHT
BEGIN:STANDARD
TZOFFSETFROM:-0500
TZOFFSETTO:-0600
TZNAME:CST
DTSTART:20261101T070000
END:STANDARD
END:VTIMEZONE
BEGIN:VEVENT
DTSTART;TZID=America/Chicago:20260218T080000
DTEND;TZID=America/Chicago:20260218T170000
DTSTAMP:20260425T123234
CREATED:20260205T153639Z
LAST-MODIFIED:20260205T153639Z
UID:48140-1771401600-1771434000@cadc.auburn.edu
SUMMARY:Spring 2026 BSCI Career Fair
DESCRIPTION:
URL:https://cadc.auburn.edu/event/spring-2026-bsci-career-fair/
LOCATION:Neville Arena\, 250 Beard-Eaves Court\, Auburn\, AL\, 36849\, United States
CATEGORIES:BSCI,CADC
ATTACH;FMTTYPE=image/jpeg:https://cadc.auburn.edu/wp-content/uploads/2025/06/BSCI-CareerFair-Fall2024-TMD-017.jpg
END:VEVENT
BEGIN:VEVENT
DTSTART;VALUE=DATE:20250924
DTEND;VALUE=DATE:20250925
DTSTAMP:20260425T123234
CREATED:20250801T195244Z
LAST-MODIFIED:20250815T144412Z
UID:44356-1758672000-1758758399@cadc.auburn.edu
SUMMARY:BSCI Fall 2025 Career Fair
DESCRIPTION:
URL:https://cadc.auburn.edu/event/bsci-fall-2025-career-fair/
LOCATION:Neville Arena\, 250 Beard-Eaves Court\, Auburn\, AL\, 36849\, United States
CATEGORIES:BSCI,CADC
ATTACH;FMTTYPE=image/jpeg:https://cadc.auburn.edu/wp-content/uploads/2024/04/BSCI-CareerFair-Spring2024-TMD-4.jpg
END:VEVENT
BEGIN:VEVENT
DTSTART;VALUE=DATE:20250809
DTEND;VALUE=DATE:20250810
DTSTAMP:20260425T123234
CREATED:20250711T201858Z
LAST-MODIFIED:20250711T203551Z
UID:43966-1754697600-1754783999@cadc.auburn.edu
SUMMARY:Auburn Summer Commencement
DESCRIPTION:
URL:https://cadc.auburn.edu/event/auburn-summer-commencement/
LOCATION:Neville Arena\, 250 Beard-Eaves Court\, Auburn\, AL\, 36849\, United States
CATEGORIES:APLA,BSCI,CADC,SIGD
ATTACH;FMTTYPE=image/jpeg:https://cadc.auburn.edu/wp-content/uploads/2025/07/MLB_9156.jpg
END:VEVENT
BEGIN:VEVENT
DTSTART;VALUE=DATE:20250509
DTEND;VALUE=DATE:20250513
DTSTAMP:20260425T123234
CREATED:20241206T172004Z
LAST-MODIFIED:20250415T184755Z
UID:39663-1746748800-1747094399@cadc.auburn.edu
SUMMARY:Auburn University Spring 2025 Commencement
DESCRIPTION:
URL:https://cadc.auburn.edu/event/auburn-university-spring-2025-commencement/
LOCATION:Neville Arena\, 250 Beard-Eaves Court\, Auburn\, AL\, 36849\, United States
CATEGORIES:APLA,BSCI,CADC,SIGD
ATTACH;FMTTYPE=image/jpeg:https://cadc.auburn.edu/wp-content/uploads/2024/12/20240803_GradSU_JEN0023.jpg
END:VEVENT
BEGIN:VEVENT
DTSTART;TZID=America/Chicago:20250212T100000
DTEND;TZID=America/Chicago:20250212T140000
DTSTAMP:20260425T123234
CREATED:20250207T221511Z
LAST-MODIFIED:20250207T221537Z
UID:40227-1739354400-1739368800@cadc.auburn.edu
SUMMARY:BSCI Spring 2025 Career Fair
DESCRIPTION:Auburn University Building Science Career Fair- Spring 2025
URL:https://cadc.auburn.edu/event/bsci-spring-2025-career-fair/
LOCATION:Neville Arena\, 250 Beard-Eaves Court\, Auburn\, AL\, 36849\, United States
CATEGORIES:BSCI
END:VEVENT
BEGIN:VEVENT
DTSTART;VALUE=DATE:20241214
DTEND;VALUE=DATE:20241215
DTSTAMP:20260425T123234
CREATED:20241002T014107Z
LAST-MODIFIED:20241002T014107Z
UID:38336-1734134400-1734220799@cadc.auburn.edu
SUMMARY:Auburn University Fall 2024 Commencement
DESCRIPTION:
URL:https://cadc.auburn.edu/event/auburn-university-fall-2024-commencement/
LOCATION:Neville Arena\, 250 Beard-Eaves Court\, Auburn\, AL\, 36849\, United States
CATEGORIES:APLA,BSCI,CADC,SIGD
ATTACH;FMTTYPE=image/jpeg:https://cadc.auburn.edu/wp-content/uploads/2024/10/20240505_JE_SPGraduation_0002.jpg
END:VEVENT
BEGIN:VEVENT
DTSTART;TZID=America/Chicago:20240918T100000
DTEND;TZID=America/Chicago:20240918T150000
DTSTAMP:20260425T123234
CREATED:20240802T191654Z
LAST-MODIFIED:20240802T191654Z
UID:37555-1726653600-1726671600@cadc.auburn.edu
SUMMARY:Building Science Fall 2024 Career Fair
DESCRIPTION:
URL:https://cadc.auburn.edu/event/building-science-fall-2024-career-fair/
LOCATION:Neville Arena\, 250 Beard-Eaves Court\, Auburn\, AL\, 36849\, United States
CATEGORIES:BSCI,CADC
ATTACH;FMTTYPE=image/jpeg:https://cadc.auburn.edu/wp-content/uploads/2024/04/BSCI-CareerFair-Spring2024-TMD-4.jpg
ORGANIZER;CN="Angie White":MAILTO:acw0084@auburn.edu
END:VEVENT
END:VCALENDAR