BEGIN:VCALENDAR
VERSION:2.0
PRODID:-//College of Architecture, Design and Construction - ECPv6.3.3.1//NONSGML v1.0//EN
CALSCALE:GREGORIAN
METHOD:PUBLISH
X-WR-CALNAME:College of Architecture, Design and Construction
X-ORIGINAL-URL:https://cadc.auburn.edu
X-WR-CALDESC:Events for College of Architecture, Design and Construction
REFRESH-INTERVAL;VALUE=DURATION:PT1H
X-Robots-Tag:noindex
X-PUBLISHED-TTL:PT1H
BEGIN:VTIMEZONE
TZID:America/Chicago
BEGIN:DAYLIGHT
TZOFFSETFROM:-0600
TZOFFSETTO:-0500
TZNAME:CDT
DTSTART:20140309T080000
END:DAYLIGHT
BEGIN:STANDARD
TZOFFSETFROM:-0500
TZOFFSETTO:-0600
TZNAME:CST
DTSTART:20141102T070000
END:STANDARD
BEGIN:DAYLIGHT
TZOFFSETFROM:-0600
TZOFFSETTO:-0500
TZNAME:CDT
DTSTART:20150308T080000
END:DAYLIGHT
BEGIN:STANDARD
TZOFFSETFROM:-0500
TZOFFSETTO:-0600
TZNAME:CST
DTSTART:20151101T070000
END:STANDARD
BEGIN:DAYLIGHT
TZOFFSETFROM:-0600
TZOFFSETTO:-0500
TZNAME:CDT
DTSTART:20160313T080000
END:DAYLIGHT
BEGIN:STANDARD
TZOFFSETFROM:-0500
TZOFFSETTO:-0600
TZNAME:CST
DTSTART:20161106T070000
END:STANDARD
BEGIN:DAYLIGHT
TZOFFSETFROM:-0600
TZOFFSETTO:-0500
TZNAME:CDT
DTSTART:20170312T080000
END:DAYLIGHT
BEGIN:STANDARD
TZOFFSETFROM:-0500
TZOFFSETTO:-0600
TZNAME:CST
DTSTART:20171105T070000
END:STANDARD
END:VTIMEZONE
BEGIN:VEVENT
DTSTART;TZID=America/Chicago:20170308T150000
DTEND;TZID=America/Chicago:20170308T163000
DTSTAMP:20260421T010052
CREATED:20190605T205546Z
LAST-MODIFIED:20190607T170204Z
UID:1374-1488985200-1488990600@cadc.auburn.edu
SUMMARY:APLA Spring Lecture Series: Michael Ezban
DESCRIPTION:UNFOLDING NARRATIVES \nvision | contingency | legacy \n  \nMichael Ezban \nFounder and principal \nVanderGoot Ezban Studio \n  \nArchitecture Spring 2017 Lecture Series Welcomes Michael Ezban on March 8 \n  \nMichael Ezban\, founder and principal of VanderGoot Ezban Studio\, will present the next lecture in the School of Architecture\, Planning and Landscape Architecture”s Spring 2017 Lecture Series\, “UNFOLDING NARRATIVES: vision | contingency | legacy.” Ezban\, who is a landscape designer\, registered architect and educator\, will lecture on Wednesday\, March 8\, at 4:00 pm in Dudley Auditorium B6. His lecture\, “Aquaculture Landscapes: Multifunctional Fish Farms in the Public Realm\,” explores the design of historical and future productive landscapes where fish cultivation\, recreation\, conservation\, and waste management are enmeshed\, symbiotic relationships between flora and fauna are encouraged\, and where progressive public/private partnerships support sustainable and profitable enterprise. His lecture is in conjunction with his show in Dudley Gallery that is in conjunction with his show in Dudley Gallery that runs from March 8 through March 24.  Both the lecture and show are free and open to the public. The APLA lecture series is supported by practicing architects\, planners and landscape architects in the State of Alabama. For more about the APLA lecture series\, click here. \n  \nEvents are held in Dudley Hall\, Dudley Commons Parker Auditorium\, B6 and are free and open to the public.
URL:https://cadc.auburn.edu/event/apla-spring-lecture-series-michael-ezban/
LOCATION:Dudley B6\, United States
CATEGORIES:APLA
ATTACH;FMTTYPE=image/jpeg:https://cadc.auburn.edu/wp-content/uploads/2019/06/ezbanAPLA_lectures1488209388.jpg
END:VEVENT
BEGIN:VEVENT
DTSTART;TZID=America/Chicago:20170123T143000
DTEND;TZID=America/Chicago:20170123T160000
DTSTAMP:20260421T010052
CREATED:20190605T205546Z
LAST-MODIFIED:20190607T170204Z
UID:1378-1485181800-1485187200@cadc.auburn.edu
SUMMARY:APLA Spring Lecture Series: Timothy McDonald
DESCRIPTION:UNFOLDING NARRATIVES \nvision | contingency | legacy \n  \nTimothy McDonald \nFounding Principal \nOnion Flats \n  \nEvents are held in Dudley Hall\, Dudley Commons Parker Auditorium\, B6 and are free and open to the public.
URL:https://cadc.auburn.edu/event/apla-spring-lecture-series-timothy-mcdonald/
LOCATION:Dudley B6\, United States
CATEGORIES:APLA
END:VEVENT
BEGIN:VEVENT
DTSTART;TZID=America/Chicago:20161114T143000
DTEND;TZID=America/Chicago:20161114T160000
DTSTAMP:20260421T010052
CREATED:20190605T205552Z
LAST-MODIFIED:20190607T170207Z
UID:1390-1479133800-1479139200@cadc.auburn.edu
SUMMARY:APLA Fall Lecture Series: Vincent James
DESCRIPTION:UNFOLDING NARRATIVES \nvision | contingency | legacy \n  \nVincent James \nFounding Principal \nVincent James Associates Architects: VJAA \n  \nEvents are held in Dudley Hall\, Dudley Commons Parker Auditorium\, B6 and are free and open to the public.
URL:https://cadc.auburn.edu/event/apla-fall-lecture-series-vincent-james/
LOCATION:Dudley B6\, United States
CATEGORIES:APLA
END:VEVENT
BEGIN:VEVENT
DTSTART;TZID=America/Chicago:20161024T143000
DTEND;TZID=America/Chicago:20161024T160000
DTSTAMP:20260421T010052
CREATED:20190605T205553Z
LAST-MODIFIED:20190607T170208Z
UID:1394-1477319400-1477324800@cadc.auburn.edu
SUMMARY:APLA Fall Lecture Series: Mario Gooden
DESCRIPTION:UNFOLDING NARRATIVES  \nvision | contingency | legacy  \n  \nMario Gooden \nProfessor of Professional Practice \nColumbia University Graduate School of Architecture\, Planning and Preservation  \nFounding Principal \nHuff + Gooden Architects \n  \nEvents are held in Dudley Hall\, Dudley Commons Parker Auditorium\, B6 and are free and open to the public.
URL:https://cadc.auburn.edu/event/apla-fall-lecture-series-mario-gooden/
LOCATION:Dudley B6\, United States
CATEGORIES:APLA
END:VEVENT
BEGIN:VEVENT
DTSTART;TZID=America/Chicago:20161010T143000
DTEND;TZID=America/Chicago:20161010T160000
DTSTAMP:20260421T010052
CREATED:20190605T205554Z
LAST-MODIFIED:20190607T170209Z
UID:1396-1476109800-1476115200@cadc.auburn.edu
SUMMARY:APLA Fall Lecture Series: John Ochsendorf
DESCRIPTION:UNFOLDING NARRATIVES \nvision  |  contingency  |  legacy \n  \nJohn A. Ochsendorf \nProfessor of Civil and Environmental Engineering and Architecture \nMassachusetts Institute of Technology Department of Civil and Environmental Engineering \n  \nEvents are held in Dudley Hall\, Dudley Commons Parker Auditorium\, B6 and are free and open to the public.
URL:https://cadc.auburn.edu/event/apla-fall-lecture-series-john-ochsendorf/
LOCATION:Dudley B6\, United States
CATEGORIES:APLA
END:VEVENT
BEGIN:VEVENT
DTSTART;TZID=America/Chicago:20160404T150000
DTEND;TZID=America/Chicago:20160404T170000
DTSTAMP:20260421T010052
CREATED:20190605T205610Z
LAST-MODIFIED:20190607T170220Z
UID:1440-1459782000-1459789200@cadc.auburn.edu
SUMMARY:APLA Spring 2016 Lecture Series: Izumi Kuroishi
DESCRIPTION:On the Brink: beyond which success or catastrophe occurs \n  \nIzumi Kuroishi\, PhD\, Professor of Architecture Theory and History at Aoyama Gakuin University\, Japan\, will present the final lecture in the APLA”s Spring 2016 Lecture Series: “on the Brink: beyond which success or catastrophe occurs\,” on Monday\, April 4\, 2016 at 4:00 p.m.  Professor Kuroishi”s research focuses on material culture and ethnographies of architectural space as well as on the idea of interior\, and on the relationship among technologies\, rituals\, and mathematics in the designing of buildings. She is the editor of Constructing the Colonized Land: Entwined Perspectives of East Asia around WWII. Her lecture\, “Small Houses with Large Dreams: Technology and Design of Prefabricated Houses in Postwar Japan” is in Dudley Commons B6 auditorium and is free and open to the public. The APLA lecture series is supported by practicing architects\, planners and landscape architects in the State of Alabama. For more\, click here. \n  \nAll lectures are held in Dudley B6 at 4:00 p.m.
URL:https://cadc.auburn.edu/event/apla-spring-2016-lecture-series-izumi-kuroishi/
LOCATION:Dudley B6\, United States
CATEGORIES:APLA
END:VEVENT
BEGIN:VEVENT
DTSTART;TZID=America/Chicago:20160328T150000
DTEND;TZID=America/Chicago:20160328T170000
DTSTAMP:20260421T010052
CREATED:20190605T205610Z
LAST-MODIFIED:20190607T170220Z
UID:1441-1459177200-1459184400@cadc.auburn.edu
SUMMARY:APLA Spring 2016 Lecture Series: Luis Esteban Carranza
DESCRIPTION:On the Brink: beyond which success or catastrophe occurs \n  \nAPLA Lecture Series Presents Luis E. Carranza on March 28\, Dudley Commons B6 at 4 p.m. \n  \nLecture title: “Modern Architecture in Latin America: Art\, Technology and Utopia” \n  \nLuis E. Carranza is Professor of Architecture and of Art and Architectural History at Roger Williams University in Bristol\, Rhode Island\, and an Adjunct Associate Professor at Columbia University”s Graduate School of Architecture\, Planning and Preservation. He obtained his B.Arch. at the University of Southern California and his PhD in Architectural History and Theory from Harvard University.  \n His research and published work focuses primarily on modern architecture and modern art and architecture in Latin America (with an emphasis on Mexico). This work emphasizes the relationship and codependence of social\, literary\, philosophical\, and theoretical ideas within the historical and material culture of architecture and design. Much of his research on these historical and theoretical themes can be found throughout his publications and\, specifically\, in Architecture as Revolution: Episodes in the History of Modern Mexico (University of Texas Press\, 2010) and in Modern Architecture in Latin America: Art\, Technology\, Utopia [with Prof. Fernando Lara] (University of Texas Press\, January 2015).
URL:https://cadc.auburn.edu/event/apla-spring-2016-lecture-series-luis-esteban-carranza/
LOCATION:Dudley B6\, United States
CATEGORIES:APLA
END:VEVENT
BEGIN:VEVENT
DTSTART;TZID=America/Chicago:20160201T150000
DTEND;TZID=America/Chicago:20160201T170000
DTSTAMP:20260421T010052
CREATED:20190605T205616Z
LAST-MODIFIED:20190607T170222Z
UID:1447-1454338800-1454346000@cadc.auburn.edu
SUMMARY:APLA Spring 2016 Lecture Series: Belmont Freeman
DESCRIPTION:On the Brink: beyond which success or catastrophe occurs \n  \nBelmont Freeman \nFounder/Principal \nBelmont Freeman Architects \n  \nAll lectures are held in Dudley B6 at 4:00 p.m.
URL:https://cadc.auburn.edu/event/apla-spring-2016-lecture-series-belmont-freeman/
LOCATION:Dudley B6\, United States
CATEGORIES:APLA
END:VEVENT
BEGIN:VEVENT
DTSTART;TZID=America/Chicago:20160125T150000
DTEND;TZID=America/Chicago:20160125T170000
DTSTAMP:20260421T010052
CREATED:20190605T205616Z
LAST-MODIFIED:20190607T170222Z
UID:1448-1453734000-1453741200@cadc.auburn.edu
SUMMARY:APLA Spring 2016 Lecture Series: Ken Smith
DESCRIPTION:On the Brink: beyond which success or catastrophe occurs  \n  \nKen Smith \nFounder/Principal \nWorkshop: Ken Smith Landscape Architect \nNew York City \n  \nAll lectures are held in Dudley B6 at 4:00 p.m.
URL:https://cadc.auburn.edu/event/apla-spring-2016-lecture-series-ken-smith/
LOCATION:Dudley B6\, United States
CATEGORIES:APLA
END:VEVENT
BEGIN:VEVENT
DTSTART;TZID=America/Chicago:20151012T150000
DTEND;TZID=America/Chicago:20151012T160000
DTSTAMP:20260421T010052
CREATED:20190605T205622Z
LAST-MODIFIED:20190607T170226Z
UID:1466-1444662000-1444665600@cadc.auburn.edu
SUMMARY:Architecture Fall Lecture Series Begins October 12
DESCRIPTION:The School of Architecture\, Planning and Landscape Architecture Fall Lecture Series begins on Monday\, October 12\, at 4:00 p.m. with a lecture by David Heyman. Heymann is Harwell Hamilton Harris Regents Professor in Architecture and Teaching Professor at the University of Texas Austin. His lecture\, “An Un-flushable Urinal: The Aesthetic Potential of Sustainability\,” will be in Dudley B6 auditorium and is free and open to the public. The APLA lecture series is supported by practicing architects\, planners and landscape architects in the State of Alabama.
URL:https://cadc.auburn.edu/event/architecture-fall-lecture-series-begins-october-12/
LOCATION:Dudley B6\, United States
CATEGORIES:APLA
END:VEVENT
BEGIN:VEVENT
DTSTART;TZID=America/Chicago:20141027T143000
DTEND;TZID=America/Chicago:20141027T160000
DTSTAMP:20260421T010052
CREATED:20190605T205641Z
LAST-MODIFIED:20190607T170239Z
UID:1519-1414420200-1414425600@cadc.auburn.edu
SUMMARY:Architecture Fall Lecture Series - Marshall Brown
DESCRIPTION:Marshall Brown is an Associate Professor of Architecture in the College of Architecture at the Illinois Institute of Technology and Principal of Marshall Brown Projects\, Inc. in Chicago\, IL. A recognized scholar and practitioner of urban design. http://marshallbrownprojects.com/
URL:https://cadc.auburn.edu/event/architecture-fall-lecture-series-marshall-brown/
LOCATION:Dudley B6\, United States
CATEGORIES:APLA
END:VEVENT
BEGIN:VEVENT
DTSTART;TZID=America/Chicago:20141013T143000
DTEND;TZID=America/Chicago:20141013T160000
DTSTAMP:20260421T010052
CREATED:20190605T205643Z
LAST-MODIFIED:20190607T170241Z
UID:1524-1413210600-1413216000@cadc.auburn.edu
SUMMARY:Architecture Fall Lecture Series - Carie Penabad
DESCRIPTION:Carie Penabad is a founding principal of Cúre & Penabad Architecture and Urban Design in Miami\, FL and a Professor at the University of Miami School of Architecture. She was the Louis I. Kahn Visiting Assistant Professor of Architecture Design at Yale University in Spring 2013. Her lecture is titled “Analogous Thoughts.” For more information\, visit http://www.cureandpenabad.com/.
URL:https://cadc.auburn.edu/event/architecture-fall-lecture-series-carie-penabad/
LOCATION:Dudley B6\, United States
CATEGORIES:APLA
END:VEVENT
BEGIN:VEVENT
DTSTART;TZID=America/Chicago:20141008T143000
DTEND;TZID=America/Chicago:20141008T160000
DTSTAMP:20260421T010052
CREATED:20190605T205643Z
LAST-MODIFIED:20190607T170241Z
UID:1526-1412778600-1412784000@cadc.auburn.edu
SUMMARY:Architecture Fall Lecture Series - Colin Cathcart
DESCRIPTION:City Scenario:  FOOD Colin Cathcart is Associate Professor at Fordham University and principal of Kiss + Cathcart\, Architects. His firm is dedicated to high standards of design\, economy and ecology. Key projects include: Sunworks Center rooftop environmental education greenhouse at PS 333; Solar 2 Green Energy\, Arts and Education Center; Stuyvesant Cove Environmental Learning Center; and photovoltaic production facilities for Chronar Corporation in New York and Alabama. For more information about Kiss + Carthcart\, Architects\, go to: http://www.kisscathcart.com. The “City Scenarios” lectures are supported by the Daniel F. Breeden Endowed Grant Program.
URL:https://cadc.auburn.edu/event/architecture-fall-lecture-series-colin-cathcart/
LOCATION:Dudley B6\, United States
CATEGORIES:APLA
END:VEVENT
BEGIN:VEVENT
DTSTART;TZID=America/Chicago:20140919T143000
DTEND;TZID=America/Chicago:20140919T160000
DTSTAMP:20260421T010052
CREATED:20190605T205647Z
LAST-MODIFIED:20190605T205647Z
UID:1536-1411137000-1411142400@cadc.auburn.edu
SUMMARY:Architecture Fall Lecture Series - John Klingman
DESCRIPTION:City Scenario:  WATER John P. Klingman is the Favrot Professor in Architecture at Tulane University. His lecture\, “New Orleans: Water\, Infrastructure\, Architecture!\,” will present teaching and research on water engagement in the New Orleans including the Greater New Orleans Urban Water Plan and the Dutch Dialogues\, both spearheaded by Waggonner and Ball Architects. For more information about John Klingman\, go to: http://architecture.tulane.edu/people/john-klingman. The “City Scenarios” lectures are supported by the Daniel F. Breeden Endowed Grant Program.
URL:https://cadc.auburn.edu/event/architecture-fall-lecture-series-john-klingman/
LOCATION:Dudley B6\, United States
END:VEVENT
BEGIN:VEVENT
DTSTART;TZID=America/Chicago:20140912T143000
DTEND;TZID=America/Chicago:20140912T143000
DTSTAMP:20260421T010052
CREATED:20190605T205647Z
LAST-MODIFIED:20190605T205647Z
UID:1537-1410532200-1410532200@cadc.auburn.edu
SUMMARY:Architecture Fall Lecture Series - Nader Tehrani
DESCRIPTION:Nader Tehrani is Professor and Head of the Department of Architecture at MIT School of Architecture + Planning and Principal and Founder of NADAAA\, a practice dedicated to the advancement of design innovation\, interdisciplinary collaboration\, and intensive dialogue with the construction industry. http://architecture.mit.edu/faculty/nader-tehrani
URL:https://cadc.auburn.edu/event/architecture-fall-lecture-series-nader-tehrani/
LOCATION:Dudley B6\, United States
END:VEVENT
END:VCALENDAR