BEGIN:VCALENDAR
VERSION:2.0
PRODID:-//College of Architecture, Design and Construction - ECPv6.3.3.1//NONSGML v1.0//EN
CALSCALE:GREGORIAN
METHOD:PUBLISH
X-WR-CALNAME:College of Architecture, Design and Construction
X-ORIGINAL-URL:https://cadc.auburn.edu
X-WR-CALDESC:Events for College of Architecture, Design and Construction
REFRESH-INTERVAL;VALUE=DURATION:PT1H
X-Robots-Tag:noindex
X-PUBLISHED-TTL:PT1H
BEGIN:VTIMEZONE
TZID:America/Chicago
BEGIN:DAYLIGHT
TZOFFSETFROM:-0600
TZOFFSETTO:-0500
TZNAME:CDT
DTSTART:20140309T080000
END:DAYLIGHT
BEGIN:STANDARD
TZOFFSETFROM:-0500
TZOFFSETTO:-0600
TZNAME:CST
DTSTART:20141102T070000
END:STANDARD
END:VTIMEZONE
BEGIN:VEVENT
DTSTART;TZID=America/Chicago:20140821T090000
DTEND;TZID=America/Chicago:20140821T120000
DTSTAMP:20260421T183001
CREATED:20190605T205650Z
LAST-MODIFIED:20190605T205650Z
UID:1543-1408611600-1408622400@cadc.auburn.edu
SUMMARY:CADC Welcome Week Event
DESCRIPTION:10:00am \nStudent Ambassador Tours of our programs within the CADC \nArchitecture: 120 Dudley Hall \nBuilding Construction: The Gorrie Center Large Conference Room \nIndustrial + Graphic Design: 207 Wallace Hall \n  \n11:00am – 1:00pm\, The Gorrie Center \nWe will be serving Barbecue to welcome back our students and give students the opportunity to meet their fellow classmates as well as the faculty and staff within the CADC. \n  \nAll are welcome to attend\, and we look forward to meeting you!
URL:https://cadc.auburn.edu/event/cadc-welcome-week-event/
LOCATION:CADC Welcome Week Event\, United States
END:VEVENT
END:VCALENDAR