BEGIN:VCALENDAR
VERSION:2.0
PRODID:-//College of Architecture, Design and Construction - ECPv6.3.3.1//NONSGML v1.0//EN
CALSCALE:GREGORIAN
METHOD:PUBLISH
X-WR-CALNAME:College of Architecture, Design and Construction
X-ORIGINAL-URL:https://cadc.auburn.edu
X-WR-CALDESC:Events for College of Architecture, Design and Construction
REFRESH-INTERVAL;VALUE=DURATION:PT1H
X-Robots-Tag:noindex
X-PUBLISHED-TTL:PT1H
BEGIN:VTIMEZONE
TZID:America/Chicago
BEGIN:DAYLIGHT
TZOFFSETFROM:-0600
TZOFFSETTO:-0500
TZNAME:CDT
DTSTART:20130310T080000
END:DAYLIGHT
BEGIN:STANDARD
TZOFFSETFROM:-0500
TZOFFSETTO:-0600
TZNAME:CST
DTSTART:20131103T070000
END:STANDARD
BEGIN:DAYLIGHT
TZOFFSETFROM:-0600
TZOFFSETTO:-0500
TZNAME:CDT
DTSTART:20140309T080000
END:DAYLIGHT
BEGIN:STANDARD
TZOFFSETFROM:-0500
TZOFFSETTO:-0600
TZNAME:CST
DTSTART:20141102T070000
END:STANDARD
END:VTIMEZONE
BEGIN:VEVENT
DTSTART;TZID=America/Chicago:20140219T143000
DTEND;TZID=America/Chicago:20140219T160000
DTSTAMP:20260423T033317
CREATED:20190605T205708Z
LAST-MODIFIED:20190605T205708Z
UID:1588-1392820200-1392825600@cadc.auburn.edu
SUMMARY:APLA Lecture Series:  Gina Reichert
DESCRIPTION:
URL:https://cadc.auburn.edu/event/apla-lecture-series-gina-reichert/
END:VEVENT
BEGIN:VEVENT
DTSTART;TZID=America/Chicago:20140219T140000
DTEND;TZID=America/Chicago:20140219T180000
DTSTAMP:20260423T033317
CREATED:20190605T205708Z
LAST-MODIFIED:20190605T205708Z
UID:1590-1392818400-1392832800@cadc.auburn.edu
SUMMARY:McWhorter School of Building Science Spring Career Fair
DESCRIPTION:The Career Expo is scheduled for Wednesday\, Feb.19th\, 2014 at the Auburn University Hotel and Conference Center\, from 3:00pm-7:00pm (No interviews will take place). \n  \nTo register your company please visit Tiger Recruiting Link. \n  \nContact Cassandra Calloway with questions at 334-844-5314.
URL:https://cadc.auburn.edu/event/mcwhorter-school-of-building-science-spring-career-fair/
LOCATION:Auburn University Hotel and Conference Center\, United States
END:VEVENT
BEGIN:VEVENT
DTSTART;TZID=America/Chicago:20140214T070000
DTEND;TZID=America/Chicago:20140214T190000
DTSTAMP:20260423T033317
CREATED:20190605T205708Z
LAST-MODIFIED:20190605T205708Z
UID:1591-1392361200-1392404400@cadc.auburn.edu
SUMMARY:Bryan MacKay Lyons Lecture
DESCRIPTION:Please visit www.ruralstudio.org to confirm lecture times
URL:https://cadc.auburn.edu/event/bryan-mackay-lyons-lecture/
LOCATION:The Rural Studio – Newbern\, Alabama\, United States
END:VEVENT
BEGIN:VEVENT
DTSTART;TZID=America/Chicago:20140213T070000
DTEND;TZID=America/Chicago:20140214T160000
DTSTAMP:20260423T033317
CREATED:20190605T205710Z
LAST-MODIFIED:20190605T205710Z
UID:1593-1392274800-1392393600@cadc.auburn.edu
SUMMARY:2014 AUAIAS Internship Fair
DESCRIPTION:Visit the AUAIAS website for more information:    http://apps.cadc.auburn.edu/aias/internship/index.htm
URL:https://cadc.auburn.edu/event/2014-auaias-internship-fair/
LOCATION:Auburn University Hotel and Conference Center\, United States
END:VEVENT
BEGIN:VEVENT
DTSTART;TZID=America/Chicago:20140213T070000
DTEND;TZID=America/Chicago:20140214T160000
DTSTAMP:20260423T033317
CREATED:20190605T205708Z
LAST-MODIFIED:20190605T205708Z
UID:1592-1392274800-1392393600@cadc.auburn.edu
SUMMARY:AIAS Internship Fair
DESCRIPTION:Please visit: apps.cadc.auburn.edu/aias/internship/index.html for more information
URL:https://cadc.auburn.edu/event/aias-internship-fair/
LOCATION:AU Hotel and Dixon Conference Center\, United States
END:VEVENT
BEGIN:VEVENT
DTSTART;TZID=America/Chicago:20140207T130000
DTEND;TZID=America/Chicago:20140207T150000
DTSTAMP:20260423T033317
CREATED:20190605T205710Z
LAST-MODIFIED:20190605T205710Z
UID:1594-1391778000-1391785200@cadc.auburn.edu
SUMMARY:Recruiting Open House
DESCRIPTION:
URL:https://cadc.auburn.edu/event/recruiting-open-house/
LOCATION:Dudley Hall
END:VEVENT
BEGIN:VEVENT
DTSTART;TZID=America/Chicago:20140206T070000
DTEND;TZID=America/Chicago:20140206T190000
DTSTAMP:20260423T033317
CREATED:20190605T205710Z
LAST-MODIFIED:20190605T205710Z
UID:1595-1391670000-1391713200@cadc.auburn.edu
SUMMARY:Dan Wheeler Lecture
DESCRIPTION:Please visit www.ruralstudio.org to confirm lecture time and location
URL:https://cadc.auburn.edu/event/dan-wheeler-lecture/
LOCATION:The Rural Studio – Newbern\, Alabama\, United States
END:VEVENT
BEGIN:VEVENT
DTSTART;TZID=America/Chicago:20140204T070000
DTEND;TZID=America/Chicago:20140204T160000
DTSTAMP:20260423T033317
CREATED:20190605T205711Z
LAST-MODIFIED:20190605T205711Z
UID:1596-1391497200-1391529600@cadc.auburn.edu
SUMMARY:APLA Open House
DESCRIPTION:
URL:https://cadc.auburn.edu/event/apla-open-house/
LOCATION:WBA\, Birmingham\, Alabama\, United States
END:VEVENT
BEGIN:VEVENT
DTSTART;TZID=America/Chicago:20140203T143000
DTEND;TZID=America/Chicago:20140203T160000
DTSTAMP:20260423T033317
CREATED:20190605T205711Z
LAST-MODIFIED:20190605T205711Z
UID:1597-1391437800-1391443200@cadc.auburn.edu
SUMMARY:APLA Lecture Series:  Richard Weller
DESCRIPTION:
URL:https://cadc.auburn.edu/event/apla-lecture-series-richard-weller/
END:VEVENT
BEGIN:VEVENT
DTSTART;TZID=America/Chicago:20140130T150000
DTEND;TZID=America/Chicago:20140219T190000
DTSTAMP:20260423T033317
CREATED:20190605T205712Z
LAST-MODIFIED:20190605T205712Z
UID:1598-1391094000-1392836400@cadc.auburn.edu
SUMMARY:Celebrate the Work of Cheryl Morgan and Kay Argo of the Urban Studio
DESCRIPTION:CADC is working with its Urban Studio partners to hold a celebration of the work of Cheryl Morgan and Kay Argo in Birmingham on the evening of Wednesday\, February 19th.     Location and specific time details – TBD. Meanwhile\, please save the date in your calendars and pass this news around to those who will want to know and attend. An email announcement with RSVP will be distributed soon.
URL:https://cadc.auburn.edu/event/celebrate-the-work-of-cheryl-morgan-and-kay-argo-of-the-urban-studio/
LOCATION:Birmingham\, AL (TBD)\, United States
END:VEVENT
BEGIN:VEVENT
DTSTART;TZID=America/Chicago:20140130T140000
DTEND;TZID=America/Chicago:20140130T210000
DTSTAMP:20260423T033317
CREATED:20190605T205712Z
LAST-MODIFIED:20190605T205712Z
UID:1599-1391090400-1391115600@cadc.auburn.edu
SUMMARY:Peter Gluck Lecture
DESCRIPTION:Visit www.ruralstudio.org to check lecture schedule and times.
URL:https://cadc.auburn.edu/event/peter-gluck-lecture/
LOCATION:The Rural Studio – Newbern\, Alabama\, United States
END:VEVENT
BEGIN:VEVENT
DTSTART;TZID=America/Chicago:20140129T070000
DTEND;TZID=America/Chicago:20140129T160000
DTSTAMP:20260423T033317
CREATED:20190605T205712Z
LAST-MODIFIED:20190605T205712Z
UID:1600-1390978800-1391011200@cadc.auburn.edu
SUMMARY:15th Class Day
DESCRIPTION:
URL:https://cadc.auburn.edu/event/15th-class-day/
END:VEVENT
BEGIN:VEVENT
DTSTART;TZID=America/Chicago:20140127T070000
DTEND;TZID=America/Chicago:20140130T160000
DTSTAMP:20260423T033317
CREATED:20190605T205712Z
LAST-MODIFIED:20190605T205712Z
UID:1601-1390806000-1391097600@cadc.auburn.edu
SUMMARY:APLA Open House
DESCRIPTION:Please contact the School of Architecture\, Planning and Landscape Architecture to verify the open house schedule.
URL:https://cadc.auburn.edu/event/apla-open-house-2/
LOCATION:Perkins & Will\, Atlanta\, GA\, United States
END:VEVENT
BEGIN:VEVENT
DTSTART;TZID=America/Chicago:20140124T130000
DTEND;TZID=America/Chicago:20140124T150000
DTSTAMP:20260423T033317
CREATED:20190605T205713Z
LAST-MODIFIED:20190605T205713Z
UID:1602-1390568400-1390575600@cadc.auburn.edu
SUMMARY:Recruiting Open House
DESCRIPTION:
URL:https://cadc.auburn.edu/event/recruiting-open-house-2/
LOCATION:Dudley Hall
END:VEVENT
BEGIN:VEVENT
DTSTART;TZID=America/Chicago:20140120T070000
DTEND;TZID=America/Chicago:20140120T160000
DTSTAMP:20260423T033317
CREATED:20190605T205714Z
LAST-MODIFIED:20190606T034749Z
UID:1603-1390201200-1390233600@cadc.auburn.edu
SUMMARY:MLK Holiday
DESCRIPTION:
URL:https://cadc.auburn.edu/event/mlk-holiday-2/
ATTACH;FMTTYPE=image/jpeg:https://cadc.auburn.edu/wp-content/uploads/2019/06/DSC037951422284352.jpg
END:VEVENT
BEGIN:VEVENT
DTSTART;TZID=America/Chicago:20140119T215000
DTEND;TZID=America/Chicago:20140119T215000
DTSTAMP:20260423T033317
CREATED:20190605T205714Z
LAST-MODIFIED:20190605T205714Z
UID:1604-1390168200-1390168200@cadc.auburn.edu
SUMMARY:Michael Pyatok Lecture
DESCRIPTION:
URL:https://cadc.auburn.edu/event/michael-pyatok-lecture-2/
END:VEVENT
BEGIN:VEVENT
DTSTART;TZID=America/Chicago:20140110T230000
DTEND;TZID=America/Chicago:20140111T160000
DTSTAMP:20260423T033317
CREATED:20190605T205714Z
LAST-MODIFIED:20190605T205714Z
UID:1605-1389394800-1389456000@cadc.auburn.edu
SUMMARY:Rural Studio 20th Anniversary Celebration
DESCRIPTION:The Alumni Lecture Nights are a fun\, fast-paced lecture format when each speaker is allowed to show only twenty slides\, for twenty seconds each. This format allows us to hear from a larger number of speakers in one night. All years are represented\, as well as\, all studios – 2nd years\, 3rd years\, 5th years\, and Outreach. \n  January 11 speakers include: Steve Durden '95 / Iain Stuart '97 /  Thomas Palmer '99 / James Kirkpatrick '01 / Sara Dunn '03 /  Sam Currie '05 / Sabina Nieto '07 / Brett Jones '09 / Will McGarity '11 \n  www.ruralstudio.org
URL:https://cadc.auburn.edu/event/rural-studio-20th-anniversary-celebration/
LOCATION:The Rural Studio\, Newbern\, AL\, United States
END:VEVENT
BEGIN:VEVENT
DTSTART;TZID=America/Chicago:20131213T150000
DTEND;TZID=America/Chicago:20131213T170000
DTSTAMP:20260423T033317
CREATED:20190605T205714Z
LAST-MODIFIED:20190605T205714Z
UID:1606-1386946800-1386954000@cadc.auburn.edu
SUMMARY:Graphic Design Senior Show Closing Reception
DESCRIPTION:Twenty-four seniors in the Graphic Design Program in the School of Industrial + Graphic Design will exhibit their senior projects on the ground floor of Wallace Hall\, from Tuesday\, December 10 through Friday\, December 13. The exhibit is open from 7:45 a.m. to 4:45 p.m. The opening reception for the Senior Show is on Tuesday\, December 10\, from 4:00 to 6:00 p.m. in Wallace Hall\, 116-118. There will also be a closing reception Friday\, December 13\, from 4:00-6:00 p.m. for families in town for graduation. The events are free and open to the public.
URL:https://cadc.auburn.edu/event/graphic-design-senior-show-closing-reception-2/
LOCATION:Wallace Hall\, United States
END:VEVENT
END:VCALENDAR