BEGIN:VCALENDAR
VERSION:2.0
PRODID:-//College of Architecture, Design and Construction - ECPv6.3.3.1//NONSGML v1.0//EN
CALSCALE:GREGORIAN
METHOD:PUBLISH
X-ORIGINAL-URL:https://cadc.auburn.edu
X-WR-CALDESC:Events for College of Architecture, Design and Construction
REFRESH-INTERVAL;VALUE=DURATION:PT1H
X-Robots-Tag:noindex
X-PUBLISHED-TTL:PT1H
BEGIN:VTIMEZONE
TZID:America/Chicago
BEGIN:DAYLIGHT
TZOFFSETFROM:-0600
TZOFFSETTO:-0500
TZNAME:CDT
DTSTART:20160313T080000
END:DAYLIGHT
BEGIN:STANDARD
TZOFFSETFROM:-0500
TZOFFSETTO:-0600
TZNAME:CST
DTSTART:20161106T070000
END:STANDARD
END:VTIMEZONE
BEGIN:VEVENT
DTSTART;TZID=America/Chicago:20160502T064500
DTEND;TZID=America/Chicago:20160506T154500
DTSTAMP:20260421T015145
CREATED:20190605T205608Z
LAST-MODIFIED:20210528T204020Z
UID:1434-1462171500-1462549500@cadc.auburn.edu
SUMMARY:Graphic Design Senior Show
DESCRIPTION:Twenty-two seniors in the Graphic Design program in the School of Industrial + Graphic Design will exhibit their senior projects in Wallace Hall\, rooms 116–118\, from Monday\, May 2 through Friday\, May 6. The opening reception for the Senior Show is on Monday\, May 2\, from 4:00 to 6:00 p.m. in Wallace Hall. The exhibit is open from 7:45 a.m. to 4:45 p.m. and is free and open to the public.
URL:https://cadc.auburn.edu/event/graphic-design-senior-show-4/
LOCATION:Wallace Hall 116–118\, United States
CATEGORIES:SIGD
END:VEVENT
BEGIN:VEVENT
DTSTART;TZID=America/Chicago:20160507T093000
DTEND;TZID=America/Chicago:20160507T103000
DTSTAMP:20260421T015145
CREATED:20190605T205608Z
LAST-MODIFIED:20190607T170218Z
UID:1433-1462613400-1462617000@cadc.auburn.edu
SUMMARY:CADC Graduation Reception
DESCRIPTION:Join Dean Vini Nathan and the faculty and staff of the College of Architecture\, Design and Construction for a graduation reception in Dudley Courtyard. Light refreshments will be served.
URL:https://cadc.auburn.edu/event/cadc-graduation-reception-2/
LOCATION:Dudley Courtyard\, United States
CATEGORIES:CADC
END:VEVENT
BEGIN:VEVENT
DTSTART;TZID=America/Chicago:20160507T130000
DTEND;TZID=America/Chicago:20160507T143000
DTSTAMP:20260421T015145
CREATED:20190605T205608Z
LAST-MODIFIED:20190607T170218Z
UID:1432-1462626000-1462631400@cadc.auburn.edu
SUMMARY:Graduation—CADC Ceremony
DESCRIPTION:CADC Graduation Reception 10:30–11:30 a.m.\, Dudley Courtyard (light refreshments will be served) \n  \nCADC Ceremony 2:00 p.m.\, Auburn Arena
URL:https://cadc.auburn.edu/event/graduation-cadc-ceremony/
LOCATION:Auburn Arena\, United States
CATEGORIES:CADC
END:VEVENT
BEGIN:VEVENT
DTSTART;TZID=America/Chicago:20160518T230000
DTEND;TZID=America/Chicago:20160518T230000
DTSTAMP:20260421T015145
CREATED:20190605T205608Z
LAST-MODIFIED:20190607T170218Z
UID:1431-1463612400-1463612400@cadc.auburn.edu
SUMMARY:Summer semester begins
DESCRIPTION:
URL:https://cadc.auburn.edu/event/summer-semester-begins/
CATEGORIES:CADC
END:VEVENT
BEGIN:VEVENT
DTSTART;TZID=America/Chicago:20160519T170000
DTEND;TZID=America/Chicago:20160519T190000
DTSTAMP:20260421T015145
CREATED:20190605T205606Z
LAST-MODIFIED:20260310T213009Z
UID:1430-1463677200-1463684400@cadc.auburn.edu
SUMMARY:CADC Alumni and Friends Reception at the AIA National Convention
DESCRIPTION:Thursday\, May 19\, 6–8 p.m \nThe Philadelphia Marriott Downtown\, Grand Ballroom Salon J \n1201 Market Street\, Philadelphia\, PA 19107 \nQuestions? Contact lee@auburn.edu.
URL:https://cadc.auburn.edu/event/cadc-alumni-and-friends-reception-at-the-aia-national-convention/
LOCATION:The Philadelphia Marriott Downtown\, United States
CATEGORIES:APLA
END:VEVENT
BEGIN:VEVENT
DTSTART;TZID=America/Chicago:20160525T230000
DTEND;TZID=America/Chicago:20160526T230000
DTSTAMP:20260421T015145
CREATED:20190605T205606Z
LAST-MODIFIED:20190607T170217Z
UID:1429-1464217200-1464303600@cadc.auburn.edu
SUMMARY:Camp War Eagle Session 1
DESCRIPTION:
URL:https://cadc.auburn.edu/event/camp-war-eagle-session-1-2/
CATEGORIES:CADC
END:VEVENT
BEGIN:VEVENT
DTSTART;TZID=America/Chicago:20160529T230000
DTEND;TZID=America/Chicago:20160529T230000
DTSTAMP:20260421T015145
CREATED:20190605T205606Z
LAST-MODIFIED:20190607T170217Z
UID:1428-1464562800-1464562800@cadc.auburn.edu
SUMMARY:Memorial Day Holiday
DESCRIPTION:
URL:https://cadc.auburn.edu/event/memorial-day-holiday/
CATEGORIES:CADC
END:VEVENT
END:VCALENDAR