BEGIN:VCALENDAR
VERSION:2.0
PRODID:-//College of Architecture, Design and Construction - ECPv6.3.3.1//NONSGML v1.0//EN
CALSCALE:GREGORIAN
METHOD:PUBLISH
X-WR-CALNAME:College of Architecture, Design and Construction
X-ORIGINAL-URL:https://cadc.auburn.edu
X-WR-CALDESC:Events for College of Architecture, Design and Construction
REFRESH-INTERVAL;VALUE=DURATION:PT1H
X-Robots-Tag:noindex
X-PUBLISHED-TTL:PT1H
BEGIN:VTIMEZONE
TZID:America/Chicago
BEGIN:DAYLIGHT
TZOFFSETFROM:-0600
TZOFFSETTO:-0500
TZNAME:CDT
DTSTART:20150308T080000
END:DAYLIGHT
BEGIN:STANDARD
TZOFFSETFROM:-0500
TZOFFSETTO:-0600
TZNAME:CST
DTSTART:20151101T070000
END:STANDARD
BEGIN:DAYLIGHT
TZOFFSETFROM:-0600
TZOFFSETTO:-0500
TZNAME:CDT
DTSTART:20160313T080000
END:DAYLIGHT
BEGIN:STANDARD
TZOFFSETFROM:-0500
TZOFFSETTO:-0600
TZNAME:CST
DTSTART:20161106T070000
END:STANDARD
BEGIN:DAYLIGHT
TZOFFSETFROM:-0600
TZOFFSETTO:-0500
TZNAME:CDT
DTSTART:20170312T080000
END:DAYLIGHT
BEGIN:STANDARD
TZOFFSETFROM:-0500
TZOFFSETTO:-0600
TZNAME:CST
DTSTART:20171105T070000
END:STANDARD
END:VTIMEZONE
BEGIN:VEVENT
DTSTART;TZID=America/Chicago:20170818T170000
DTEND;TZID=America/Chicago:20170818T190000
DTSTAMP:20260425T172736
CREATED:20190605T205529Z
LAST-MODIFIED:20190607T170154Z
UID:1333-1503075600-1503082800@cadc.auburn.edu
SUMMARY:CADC Alumni and Friends Reception at IDSA
DESCRIPTION:Friday\, August 18\, 2017 — 6:00 pm until 8:00 pm (EDT) \nPacific Rim Bistro in Suntrust Plaza \n303 Peachtree Center Ave.\, NE; Atlanta\, GA \nRSVP to Shelly@auburn.edu
URL:https://cadc.auburn.edu/event/cadc-alumni-and-friends-reception-at-idsa/
LOCATION:Pacific Rim Bistro Bistro in Suntrust Plaza\, United States
CATEGORIES:SIGD
END:VEVENT
BEGIN:VEVENT
DTSTART;TZID=America/Chicago:20170709T070000
DTEND;TZID=America/Chicago:20170714T160000
DTSTAMP:20260425T172736
CREATED:20190605T205534Z
LAST-MODIFIED:20190607T170156Z
UID:1343-1499583600-1500048000@cadc.auburn.edu
SUMMARY:Design Workshop: Session 2
DESCRIPTION:Register here.
URL:https://cadc.auburn.edu/event/design-workshop-session-2-2/
LOCATION:Wallace Hall\, United States
CATEGORIES:SIGD
END:VEVENT
BEGIN:VEVENT
DTSTART;TZID=America/Chicago:20170618T070000
DTEND;TZID=America/Chicago:20170623T160000
DTSTAMP:20260425T172736
CREATED:20190605T205535Z
LAST-MODIFIED:20190607T170157Z
UID:1346-1497769200-1498233600@cadc.auburn.edu
SUMMARY:Design Workshop: Session 1
DESCRIPTION:Register here.
URL:https://cadc.auburn.edu/event/design-workshop-session-1/
LOCATION:Wallace Hall\, United States
CATEGORIES:SIGD
END:VEVENT
BEGIN:VEVENT
DTSTART;TZID=America/Chicago:20170605T070000
DTEND;TZID=America/Chicago:20170609T160000
DTSTAMP:20260425T172736
CREATED:20190605T205536Z
LAST-MODIFIED:20190607T170158Z
UID:1351-1496646000-1497024000@cadc.auburn.edu
SUMMARY:Automotive Design Workshop in Birmingham
DESCRIPTION:Led by Boris Fabris\, design team leader of the SP1 Ferrari
URL:https://cadc.auburn.edu/event/automotive-design-workshop-in-birmingham/
LOCATION:Urban Studio\, United States
CATEGORIES:SIGD
END:VEVENT
BEGIN:VEVENT
DTSTART;TZID=America/Chicago:20170508T080000
DTEND;TZID=America/Chicago:20170512T150000
DTSTAMP:20260425T172736
CREATED:20190605T205538Z
LAST-MODIFIED:20190607T170159Z
UID:1355-1494230400-1494601200@cadc.auburn.edu
SUMMARY:3rd Annual Automotive Design Workshop
DESCRIPTION:Led by Boris Fabris\, designer of the SP1 Ferrari\, Turin\, Italy \n  \nMay 8–12\, Wallace Hall 9 am until 4 pm\, Monday–Friday \n  \nSponsored by the Auburn Industrial Designers Society of America Student Chapter \n  \nThe workshop includes lectures and field trips to Mercedes-Benz Plant and Museum\, Barber Motorsports Museum\, and Audi Performance Racing. \n  \nContact Sylvia Jackson for more information: jackssy@auburn.edu; 334-844-2364
URL:https://cadc.auburn.edu/event/3rd-annual-automotive-design-workshop/
LOCATION:Wallace Hall\, United States
CATEGORIES:SIGD
END:VEVENT
BEGIN:VEVENT
DTSTART;TZID=America/Chicago:20170501T070000
DTEND;TZID=America/Chicago:20170505T160000
DTSTAMP:20260425T172736
CREATED:20190605T205539Z
LAST-MODIFIED:20190607T170200Z
UID:1358-1493622000-1494000000@cadc.auburn.edu
SUMMARY:Graphic Design Senior Show
DESCRIPTION:Ten seniors in the Graphic Design program in the School of Industrial + Graphic Design will exhibit their senior projects in Wallace Hall\, rooms 116–118\, from Monday\, May 1\, through Friday\, May 5. The opening reception for the Senior Show is on Monday\, May 1\, from 4:00 to 6:00 pm in Wallace Hall. The exhibit is open from 7:45 am to 4:45 pm and is free and open to the public.
URL:https://cadc.auburn.edu/event/graphic-design-senior-show-3/
LOCATION:Wallace Hall\, rooms 116–118\, United States
CATEGORIES:SIGD
ATTACH;FMTTYPE=image/jpeg:https://cadc.auburn.edu/wp-content/uploads/2019/06/Spring-2017-SeniorShowPoster-color1492877906.jpg
END:VEVENT
BEGIN:VEVENT
DTSTART;TZID=America/Chicago:20170310T070000
DTEND;TZID=America/Chicago:20170310T160000
DTSTAMP:20260425T172736
CREATED:20190605T205543Z
LAST-MODIFIED:20190607T170203Z
UID:1372-1489129200-1489161600@cadc.auburn.edu
SUMMARY:Designing Green
DESCRIPTION:More information here.
URL:https://cadc.auburn.edu/event/designing-green/
LOCATION:Wallace Hall 107\, United States
CATEGORIES:SIGD
END:VEVENT
BEGIN:VEVENT
DTSTART;TZID=America/Chicago:20170310T070000
DTEND;TZID=America/Chicago:20170310T100000
DTSTAMP:20260425T172736
CREATED:20190605T205544Z
LAST-MODIFIED:20190607T170203Z
UID:1373-1489129200-1489140000@cadc.auburn.edu
SUMMARY:SIGD Advisory Council Meeting
DESCRIPTION:
URL:https://cadc.auburn.edu/event/sigd-advisory-council-meeting-2/
LOCATION:Wallace Hall\, room 218\, United States
CATEGORIES:SIGD
END:VEVENT
BEGIN:VEVENT
DTSTART;TZID=America/Chicago:20170306T070000
DTEND;TZID=America/Chicago:20170310T160000
DTSTAMP:20260425T172736
CREATED:20190605T205546Z
LAST-MODIFIED:20190607T170204Z
UID:1375-1488783600-1489161600@cadc.auburn.edu
SUMMARY:Graphic Design Juried Show
DESCRIPTION:The Graphic Design Annual Juried Student Show will be held at the Jan Dempsey Art Center\, March 6–10\, 2017. This year”s juror is Jim Bull from Moving Brands in San Francisco\, who will lecture at 3:00 p.m. on March 6.  Awards and a reception will follow from 4–6 pm. All events are free and open to the public. 
URL:https://cadc.auburn.edu/event/graphic-design-juried-show/
LOCATION:Jan Dempsey Community Arts Center\, United States
CATEGORIES:SIGD
ATTACH;FMTTYPE=image/jpeg:https://cadc.auburn.edu/wp-content/uploads/2019/06/Unknown1487546057.jpeg
END:VEVENT
BEGIN:VEVENT
DTSTART;TZID=America/Chicago:20170126T110000
DTEND;TZID=America/Chicago:20170126T120000
DTSTAMP:20260425T172736
CREATED:20190605T205546Z
LAST-MODIFIED:20190607T170204Z
UID:1377-1485428400-1485432000@cadc.auburn.edu
SUMMARY:SIGD Graduate Student Meeting
DESCRIPTION:
URL:https://cadc.auburn.edu/event/sigd-graduate-student-meeting/
LOCATION:WH 111\, United States
CATEGORIES:SIGD
END:VEVENT
BEGIN:VEVENT
DTSTART;TZID=America/Chicago:20170120T110000
DTEND;TZID=America/Chicago:20170120T123000
DTSTAMP:20260425T172736
CREATED:20190605T205548Z
LAST-MODIFIED:20190607T170205Z
UID:1379-1484910000-1484915400@cadc.auburn.edu
SUMMARY:SIGD Wallace Lawn Cookout
DESCRIPTION:
URL:https://cadc.auburn.edu/event/sigd-wallace-lawn-cookout/
LOCATION:Wallace Lawn\, United States
CATEGORIES:SIGD
END:VEVENT
BEGIN:VEVENT
DTSTART;TZID=America/Chicago:20170120T090000
DTEND;TZID=America/Chicago:20170120T103000
DTSTAMP:20260425T172736
CREATED:20190605T205548Z
LAST-MODIFIED:20190607T170205Z
UID:1380-1484902800-1484908200@cadc.auburn.edu
SUMMARY:SIGD Convocation
DESCRIPTION:Guest Speaker: Professor John Morgan \n  \nCookout on Wallace Hall lawn follows at noon.
URL:https://cadc.auburn.edu/event/sigd-convocation/
LOCATION:Student Activities Center\, room 104\, United States
CATEGORIES:SIGD
END:VEVENT
BEGIN:VEVENT
DTSTART;TZID=America/Chicago:20161205T070000
DTEND;TZID=America/Chicago:20161209T160000
DTSTAMP:20260425T172736
CREATED:20190605T205550Z
LAST-MODIFIED:20190607T170207Z
UID:1385-1480921200-1481299200@cadc.auburn.edu
SUMMARY:Graphic Design Fall 2016 Senior Show on December 5–9
DESCRIPTION:Twenty-nine seniors in the Graphic Design program in the School of Industrial + Graphic Design will exhibit their senior projects in Wallace Hall\, rooms 116–118\, from Monday\, December 5\, through Friday\, December 9. The opening reception for the Senior Show is on Monday\, December 5\, from 4:00 to 6:00 p.m.\, in Wallace Hall 116–118. The exhibit is open from 7:45 am to 4:45 pm and is free and open to the public.
URL:https://cadc.auburn.edu/event/graphic-design-fall-2016-senior-show-on-december-5-9/
LOCATION:Wallace Hall 116–118\, United States
CATEGORIES:SIGD
END:VEVENT
BEGIN:VEVENT
DTSTART;TZID=America/Chicago:20160930T073000
DTEND;TZID=America/Chicago:20160930T140000
DTSTAMP:20260425T172736
CREATED:20190605T205556Z
LAST-MODIFIED:20190607T170210Z
UID:1400-1475220600-1475244000@cadc.auburn.edu
SUMMARY:38th Design Interaction Takes Place on September 30\, 2016
DESCRIPTION:The 38th Design Interaction will be on Friday\, September 30\, 2016. The School of Industrial + Graphic Design”s annual celebration of design at Auburn will start at 8:30 a.m. in the Student Activities Center (behind the Wellness Center) in Room 104. Each year SIGD brings design professionals and students together to present and discuss each other”s work. This fall SIGD will welcome John Payne\, who is Managing Director of Moment in New York City\, and Ashleigh Axios\, former Creative Director for the White House in Washington DC. All events are free and open to the public. \n  \nA 1990 graduate of Auburn ‘s industrial design program\, John Payne is Managing Director at Moment\, a digital strategy and design consultancy that he co-founded in New York City. His work explores the positive contribution that interaction design can make to healthcare experiences\, with a focus on patient empowerment and participation and management of chronic disease. He will speak at 9:00 a.m. \n  \nAshleigh Axios is an international speaker\, strategic creative\, and an advocate for design”s ability to break barriers and create positive social change. She served as the creative director and a digital strategist at the While House\, where she led design from within the Office of Digital Strategy. Axios is on the National Board of Directors of the AIGA\, the professional association for design. Axios will speak at 10:00 a.m. \n  \n“This annual event is a long standing celebration of design at Auburn University\,” says Clark Lundell\, Head of the School of Industrial + Graphic Design. “Our students are exposed to the work of outstanding professionals such as John and Ashleigh who\, in turn\, evaluate and discuss student work currently being generated in the studios.” \n  \nDesign Interaction afternoon activities begin at noon with a cookout and gathering on Wallace Hall lawn. A SIGD Design Exhibition will be at 1:00 p.m.\, and Payne and Axios will make closing remarks at 2:30 p.m. in Wallace Hall\, Room 107.
URL:https://cadc.auburn.edu/event/38th-design-interaction-takes-place-on-september-30-2016/
LOCATION:Student Activities Center 104\, United States
CATEGORIES:SIGD
END:VEVENT
BEGIN:VEVENT
DTSTART;TZID=America/Chicago:20160930T070000
DTEND;TZID=America/Chicago:20160930T160000
DTSTAMP:20260425T172736
CREATED:20190605T205557Z
LAST-MODIFIED:20190607T170210Z
UID:1402-1475218800-1475251200@cadc.auburn.edu
SUMMARY:SIGD Prospective Student Day
DESCRIPTION:
URL:https://cadc.auburn.edu/event/sigd-prospective-student-day/
CATEGORIES:SIGD
END:VEVENT
BEGIN:VEVENT
DTSTART;TZID=America/Chicago:20160930T070000
DTEND;TZID=America/Chicago:20160930T073000
DTSTAMP:20260425T172736
CREATED:20190605T205556Z
LAST-MODIFIED:20190607T170210Z
UID:1401-1475218800-1475220600@cadc.auburn.edu
SUMMARY:SIGD Advisory Council Meeting
DESCRIPTION:
URL:https://cadc.auburn.edu/event/sigd-advisory-council-meeting-3/
CATEGORIES:SIGD
END:VEVENT
BEGIN:VEVENT
DTSTART;TZID=America/Chicago:20160710T230100
DTEND;TZID=America/Chicago:20160714T230100
DTSTAMP:20260425T172736
CREATED:20190605T205601Z
LAST-MODIFIED:20190607T170213Z
UID:1415-1468191660-1468537260@cadc.auburn.edu
SUMMARY:Design Workshops for High School Students
DESCRIPTION:
URL:https://cadc.auburn.edu/event/design-workshops-for-high-school-students/
LOCATION:Wallace Hall\, United States
CATEGORIES:SIGD
END:VEVENT
BEGIN:VEVENT
DTSTART;TZID=America/Chicago:20160708T230100
DTEND;TZID=America/Chicago:20160729T230100
DTSTAMP:20260425T172736
CREATED:20190605T205603Z
LAST-MODIFIED:20190607T170215Z
UID:1419-1468018860-1469833260@cadc.auburn.edu
SUMMARY:creativeexchange: An American design experience at Auburn University
DESCRIPTION:The School of Industrial + Graphic Design is pleased to once again host CreativeExchange\, a two-week workshop for international students. CreativeExchange immerses participants in multi-disciplinary design sessions with personalized hands-on design instruction from Auburn”s highly regarded Graphic Design faculty. Students explore design through drawing\, color\, photography\, collage\, typography\, and digital animation with an emphasis upon the exchange of Eastern + Western perspective. In addition to the American design experience\, the CreativeExchange also includes visits to Atlanta to cutting-edge design firms and venues such as the High Museum\, MODA\, Portfolio Center\, the Coca-Cola Museum\, and SCAD Atlanta. This year”s Creative Exchange will take place from July 9 through July 30\, 2016. Thirty seats are available for the 2016 workshop. \n  \nClick here to register.
URL:https://cadc.auburn.edu/event/creativeexchange-an-american-design-experience-at-auburn-university/
CATEGORIES:SIGD
END:VEVENT
BEGIN:VEVENT
DTSTART;TZID=America/Chicago:20160619T230000
DTEND;TZID=America/Chicago:20160623T230000
DTSTAMP:20260425T172736
CREATED:20190605T205604Z
LAST-MODIFIED:20190607T170215Z
UID:1423-1466377200-1466722800@cadc.auburn.edu
SUMMARY:Design Workshops for High School Students
DESCRIPTION:
URL:https://cadc.auburn.edu/event/design-workshops-for-high-school-students-2/
LOCATION:Wallace Hall\, United States
CATEGORIES:SIGD
END:VEVENT
BEGIN:VEVENT
DTSTART;TZID=America/Chicago:20160502T064500
DTEND;TZID=America/Chicago:20160506T154500
DTSTAMP:20260425T172736
CREATED:20190605T205608Z
LAST-MODIFIED:20210528T204020Z
UID:1434-1462171500-1462549500@cadc.auburn.edu
SUMMARY:Graphic Design Senior Show
DESCRIPTION:Twenty-two seniors in the Graphic Design program in the School of Industrial + Graphic Design will exhibit their senior projects in Wallace Hall\, rooms 116–118\, from Monday\, May 2 through Friday\, May 6. The opening reception for the Senior Show is on Monday\, May 2\, from 4:00 to 6:00 p.m. in Wallace Hall. The exhibit is open from 7:45 a.m. to 4:45 p.m. and is free and open to the public.
URL:https://cadc.auburn.edu/event/graphic-design-senior-show-4/
LOCATION:Wallace Hall 116–118\, United States
CATEGORIES:SIGD
END:VEVENT
BEGIN:VEVENT
DTSTART;TZID=America/Chicago:20160415T080000
DTEND;TZID=America/Chicago:20160416T183000
DTSTAMP:20260425T172736
CREATED:20190605T205609Z
LAST-MODIFIED:20190607T170220Z
UID:1437-1460707200-1460831400@cadc.auburn.edu
SUMMARY:Designing Green and IDSA South District Conference
DESCRIPTION:The School of Industrial + Graphic Design welcomes the IDSA 2016 South District Design Conference: “desXgn— experience is everything” to Auburn University on April 15–16\, 2016. \n  \nFeatured speakers include: \nKendrick Anderson of Kendrick Anderson Furniture \nJeevak Badve of Sundberg-Ferar \nMatthew Chambers of Confederate Motors \nPam Dorr of H.E.R.O. \nRussell Kroll of Formation Design Group \nDamiam Mycroft of Coca-Cola \nJeff Smith of Autodesk \nJessica Saurez of Cinnabon \nLaurissa Wolfram-Kvass of MailChimp \n  \nFor more\, click here.  \n  \n— \n  \nConference Schedule\n  \nFriday \n— \n9:00am–2:00pm Design Green Competition \n  \n2:00–2:30pm Welcome & Introduction | Chris Livaudais\, IDSA\, InReality \n  \n2:30–3:00pm Everything Matters—Innovating Experience\, Russell Kroll\, IDSA\, Formation Design Group \n  \n3:00–3:30pm The Audience Research\, Laurissa Wolfram-Hvass\, MailChimp \n  \n3:30–4:15pm Coffee Break \n  \n4:15–5:00pm The True "Vehicle" of Design Experience\, Jeevak Badve\, IDSA\, Sundberg-Ferar \n  \n5:00–5:45pm Kiss the Past Hello  – New Ways to Deliver Familiar Experiences\, Damian Mycroft\, Coca-Cola \n  \n5:45–6:00pm Closing Remarks | Chris Livaudais\, IDSA\, InReality \n  \n  \nSaturday \n— \n9:00–9:45am Morning Coffee \n  \n9:45–10:00am Welcome & Introduction | Michael Rall\, IDSA \n  \n10:00–10:45am Portfolio Review Session A \n  \n10:00–10:45am Workshop Session – Sketch On! A Workshop\, Jeff Smith\, IDSA\, Autodesk \n  \n10:45–11:00am Rotate Sessions \n  \n11:00–11:45am Portfolio Review Session B \n  \n11:00–11:45am Workshop Session – Sketch On! A Workshop\, Jeff Smith\, IDSA \n  \n12:00–1:15pm Lunch @ Dudley Hall – Sponsor Exhibitor Gallery Open \n  \n1:15–1:30pm Welcome & Introduction | Chris Livaudais\, IDSA\, InReality \n  \n1:30–2:00pm Against the Grain: Designing/Making on a Smaller Scale\, Kendrick Anderson\, Kendrick Anderson Furniture \n  \n2:00 –2:30pm The Winning Card\, Jessica Suarez\, Cinnabon \n  \n2:30 –3:00pm Bamboo Blitz\, Pam Dorr\, Hale Empowerment and Revitalization Organization\, Inc. (HERO) \n  \n3:00 –3:30pm Coffee Break \n  \n3:30 –5:00pm Student Merit Presentations \n  \n5:00 –5:45pm RE-BEL\, Matthew Chambers\, Confederate Motors \n  \n5:45 –6:00pm Closing Remarks | Student Merit Winner Announced | Chris Livaudais\, IDSA & Donald Corey\, IDSA \n  \n6:30–7:30pm Closing Party – The Hotel at Auburn University \n  \nFor more about the conference schedule\, click here.
URL:https://cadc.auburn.edu/event/designing-green-and-idsa-south-district-conference/
LOCATION:Auburn University\, United States
CATEGORIES:SIGD
END:VEVENT
BEGIN:VEVENT
DTSTART;TZID=America/Chicago:20160415T080000
DTEND;TZID=America/Chicago:20160415T160000
DTSTAMP:20260425T172736
CREATED:20190605T205610Z
LAST-MODIFIED:20190607T170220Z
UID:1438-1460707200-1460736000@cadc.auburn.edu
SUMMARY:Designing Green
DESCRIPTION:Designing Green is an annual event hosted by the School of Industrial + Graphic Design that focuses on sustainable design awareness and practice. This year\, Auburn”s Industrial Design program is teaming up with designer and inventor Dirk Vander Kooji\, Eastman Innovation Lab and Autodesk for the 2016 Designing Green Competition\, and students from the IDSA South District Conference schools have been invited to compete. Their challenge is to design a piece of furniture or other interior décor item that uses the unique\, large scale capabilities of Dirk Vander Kooji”s Endless 3D printer. \n  \nDesigning Green lectures begin at 9:00 a.m. on April 15\, 2016\, in the Student Activities Center\, room 104. Bryan Shackelford\, IDSA\, of Eastman Innovation Lab will lecture at 9:00 a.m.\, and Dirk Vander Kooji will Skype from the Netherlands at 10:00. A cookout on Wallace Hall lawn will be at noon\, and Jeff Smith\, IDSA\, will host a workshop on Autodesk at 1:00 p.m. in 107 Wallace Hall. \n  \nFor more\, click here.
URL:https://cadc.auburn.edu/event/designing-green-2/
LOCATION:Wallace Hall 107\, United States
CATEGORIES:SIGD
END:VEVENT
BEGIN:VEVENT
DTSTART;TZID=America/Chicago:20160307T080000
DTEND;TZID=America/Chicago:20160311T110000
DTSTAMP:20260425T172736
CREATED:20190605T205612Z
LAST-MODIFIED:20210528T204045Z
UID:1442-1457337600-1457694000@cadc.auburn.edu
SUMMARY:Graphic Design Juried Student Show
DESCRIPTION:The Graphic Design 2016 Juried Student Show will take place Monday–Friday\, March 7–11\, 2016\, at theJan Dempsey Community Arts Center\, Art Gallery. This year”s judge is Ann Willoughby of Willoughby Design in Kansas City\, Missouri. She will speak on Monday\, March 16\, 3–4 p.m.\, at Harris Center Lecture Room. A reception and awards presentation will follow. They gallery is open from 9 a.m. to 5 p.m. and closes Friday at noon. All events are free and open to the public.
URL:https://cadc.auburn.edu/event/graphic-design-juried-student-show/
LOCATION:Jan Dempsey Community Arts Center\, United States
CATEGORIES:SIGD
END:VEVENT
BEGIN:VEVENT
DTSTART;TZID=America/Chicago:20160115T070000
DTEND;TZID=America/Chicago:20160115T070000
DTSTAMP:20260425T172736
CREATED:20190605T205616Z
LAST-MODIFIED:20190607T170222Z
UID:1449-1452841200-1452841200@cadc.auburn.edu
SUMMARY:SIGD Spring Convocation
DESCRIPTION:
URL:https://cadc.auburn.edu/event/sigd-spring-convocation/
LOCATION:Student Activities Center\, room 104\, United States
CATEGORIES:SIGD
END:VEVENT
BEGIN:VEVENT
DTSTART;TZID=America/Chicago:20151206T230000
DTEND;TZID=America/Chicago:20151210T230000
DTSTAMP:20260425T172736
CREATED:20190605T205618Z
LAST-MODIFIED:20190607T170223Z
UID:1454-1449442800-1449788400@cadc.auburn.edu
SUMMARY:Graphic Design Senior Show Fall 2015
DESCRIPTION:Twenty-two seniors in the Graphic Design program in the School of Industrial + Graphic Design will exhibit their senior projects in Wallace Hall\, rooms 116–118\, from Monday\, December 7 through Friday\, December 11. The opening reception for the Senior Show is on Monday\, December 7\, from 4:00 to 6:00 p.m. in Wallace Hall. The exhibit is open from 7:45 a.m. to 4:45 p.m. and is free and open to the public.
URL:https://cadc.auburn.edu/event/graphic-design-senior-show-fall-2015/
LOCATION:Wallace Hall\, 116-118\, United States
CATEGORIES:SIGD
END:VEVENT
BEGIN:VEVENT
DTSTART;TZID=America/Chicago:20151002T080000
DTEND;TZID=America/Chicago:20151002T103000
DTSTAMP:20260425T172736
CREATED:20190605T205624Z
LAST-MODIFIED:20190607T170228Z
UID:1473-1443772800-1443781800@cadc.auburn.edu
SUMMARY:Design Interaction
DESCRIPTION:The 37th Annual Design Interaction Symposium will take place in the Student Activities Center (not to be confused with the Student Center) room 104 on Friday\, October 2. The symposium will begin at 9 am central time. Our featured guest speakers are Bethany Heck from Microsoft and Anjuli Calvert from Human. This event is free and open to the public.
URL:https://cadc.auburn.edu/event/design-interaction-2/
LOCATION:Student Activities Center 104\, United States
CATEGORIES:SIGD
END:VEVENT
BEGIN:VEVENT
DTSTART;TZID=America/Chicago:20150705T070000
DTEND;TZID=America/Chicago:20150710T160000
DTSTAMP:20260425T172736
CREATED:20190605T205628Z
LAST-MODIFIED:20190607T170231Z
UID:1482-1436079600-1436544000@cadc.auburn.edu
SUMMARY:Design Workshop / Summer Design Camp Session 2
DESCRIPTION:Auburn University’s Design Workshop offers an engaging program for rising ninth through twelfth grade students interested in a professional career in design. Hosted by the College of Architecture Design and Construction’s School of Industrial and Graphic Design\, this week-long resident camp offers an intensive design experience beginning with the identification of a design problem and rapidly progresses through idea generation\, concept development\, and exploratory prototyping. \n  \nClick here for more information.
URL:https://cadc.auburn.edu/event/design-workshop-summer-design-camp-session-2/
LOCATION:Wallace Hall\, United States
CATEGORIES:SIGD
END:VEVENT
BEGIN:VEVENT
DTSTART;TZID=America/Chicago:20150614T070000
DTEND;TZID=America/Chicago:20150619T160000
DTSTAMP:20260425T172736
CREATED:20190605T205629Z
LAST-MODIFIED:20190607T170231Z
UID:1486-1434265200-1434729600@cadc.auburn.edu
SUMMARY:Design Workshop / Summer Design Camp Session 1
DESCRIPTION:Auburn University’s Design Workshop offers an engaging program for rising ninth through twelfth grade students interested in a professional career in design. Hosted by the College of Architecture Design and Construction’s School of Industrial and Graphic Design\, this week-long resident camp offers an intensive design experience beginning with the identification of a design problem and rapidly progresses through idea generation\, concept development\, and exploratory prototyping. \n  \nClick here for more information.
URL:https://cadc.auburn.edu/event/design-workshop-summer-design-camp-session-1/
LOCATION:Wallace Hall\, United States
CATEGORIES:SIGD
END:VEVENT
BEGIN:VEVENT
DTSTART;TZID=America/Chicago:20150504T070000
DTEND;TZID=America/Chicago:20150508T160000
DTSTAMP:20260425T172736
CREATED:20190605T205630Z
LAST-MODIFIED:20190607T170231Z
UID:1489-1430722800-1431100800@cadc.auburn.edu
SUMMARY:Graphic Design Senior Show Spring 2015
DESCRIPTION:The Spring Semester Graphic Design Senior Show is scheduled for Monday through Friday\, 4-8 May in Wallace Hall rooms 116-118. The opening reception for the Senior Show is on Monday\, May 4\, from 4:00 to 6:00 p.m. in Wallace Hall. The event is free and open to the public.    Congratulations to seniors below:  Christopher Adams  Talia Arevalo  Christian Marcelo Blanco  Michael Harrington  Jessica Jackson  Lexa Keenen  Charlotte Kelly  Laura Kennedy  Kenslie McGuire  Rayna McGuire  Chelsea Moore  Sarah Palmer  Olivia Pierce  Whitney Pritchett  Madison Scordino  Kim Varagona  Winston Waters  Megan Wilson
URL:https://cadc.auburn.edu/event/graphic-design-senior-show-spring-2015/
LOCATION:Wallace Hall\, 116-118\, United States
CATEGORIES:SIGD
ATTACH;FMTTYPE=image/jpeg:https://cadc.auburn.edu/wp-content/uploads/2019/06/DSC_04411421161501.jpg
END:VEVENT
BEGIN:VEVENT
DTSTART;TZID=America/Chicago:20150320T093000
DTEND;TZID=America/Chicago:20150320T110000
DTSTAMP:20260425T172736
CREATED:20190605T205631Z
LAST-MODIFIED:20190607T170233Z
UID:1492-1426843800-1426849200@cadc.auburn.edu
SUMMARY:SIGD Advisory Council Meeting
DESCRIPTION:The spring semester meeting of the SIGD Advisory Council will take place Friday\, 20 March\, to begin at 10:30 a.m.  Central Time in Wallace 208. We are looking to expand our membership\, particularly in graphic design. If you are  interested\, please attend as a guest.
URL:https://cadc.auburn.edu/event/sigd-advisory-council-meeting-4/
LOCATION:Wallace Hall\, 208\, United States
CATEGORIES:SIGD
ATTACH;FMTTYPE=image/jpeg:https://cadc.auburn.edu/wp-content/uploads/2019/06/IMG_78771421161561.jpg
END:VEVENT
END:VCALENDAR