BEGIN:VCALENDAR
VERSION:2.0
PRODID:-//College of Architecture, Design and Construction - ECPv6.3.3.1//NONSGML v1.0//EN
CALSCALE:GREGORIAN
METHOD:PUBLISH
X-WR-CALNAME:College of Architecture, Design and Construction
X-ORIGINAL-URL:https://cadc.auburn.edu
X-WR-CALDESC:Events for College of Architecture, Design and Construction
REFRESH-INTERVAL;VALUE=DURATION:PT1H
X-Robots-Tag:noindex
X-PUBLISHED-TTL:PT1H
BEGIN:VTIMEZONE
TZID:America/Chicago
BEGIN:DAYLIGHT
TZOFFSETFROM:-0600
TZOFFSETTO:-0500
TZNAME:CDT
DTSTART:20170312T080000
END:DAYLIGHT
BEGIN:STANDARD
TZOFFSETFROM:-0500
TZOFFSETTO:-0600
TZNAME:CST
DTSTART:20171105T070000
END:STANDARD
BEGIN:DAYLIGHT
TZOFFSETFROM:-0600
TZOFFSETTO:-0500
TZNAME:CDT
DTSTART:20180311T080000
END:DAYLIGHT
BEGIN:STANDARD
TZOFFSETFROM:-0500
TZOFFSETTO:-0600
TZNAME:CST
DTSTART:20181104T070000
END:STANDARD
BEGIN:DAYLIGHT
TZOFFSETFROM:-0600
TZOFFSETTO:-0500
TZNAME:CDT
DTSTART:20190310T080000
END:DAYLIGHT
BEGIN:STANDARD
TZOFFSETFROM:-0500
TZOFFSETTO:-0600
TZNAME:CST
DTSTART:20191103T070000
END:STANDARD
END:VTIMEZONE
BEGIN:VEVENT
DTSTART;TZID=America/Chicago:20190913T090000
DTEND;TZID=America/Chicago:20190913T153000
DTSTAMP:20260423T200103
CREATED:20190805T021538Z
LAST-MODIFIED:20260310T211814Z
UID:8548-1568365200-1568388600@cadc.auburn.edu
SUMMARY:41st annual Design Interaction
DESCRIPTION:This year\, we celebrate the 41st annual Design Interaction\, hosted by the School of Industrial and Graphic Design on September 13\, 2019. \nThe day begins with talks by James Sommerville (VP of Global Design\, The Coca-Cola Company) and Tom Dempsey (Company Founder/President\, SylvanSport) at 9am in Wallace Hall\, room 107 (overflow in room 111). At noon\, there will be a cookout on Wallace Lawn\, followed by tours of the studios and closing remarks in Wallace Hall. We hope to see you there!
URL:https://cadc.auburn.edu/event/sigd-design-interaction-2019/
LOCATION:Wallace Hall\, United States
CATEGORIES:CADC,SIGD
ATTACH;FMTTYPE=image/jpeg:https://cadc.auburn.edu/wp-content/uploads/2019/08/41st_design_interaction_FeatureIMG.jpg
ORGANIZER;CN="Sylvia Jackson":MAILTO:jackssy@auburn.edu
END:VEVENT
BEGIN:VEVENT
DTSTART;TZID=America/Chicago:20190913T090000
DTEND;TZID=America/Chicago:20190913T140000
DTSTAMP:20260423T200103
CREATED:20190830T190451Z
LAST-MODIFIED:20260310T211825Z
UID:10391-1568365200-1568383200@cadc.auburn.edu
SUMMARY:41st Annual Design Interaction Symposium
DESCRIPTION:Join us for the 41st Annual Design Interaction Symposium presented by the School of Industrial and Graphic Design. For additional info\, contact Sylvia Jackson at (334) 844-2364 or jackssy@auburn.edu. \n9 a.m.: James Sommerville & Tom Dempsey\nWallace Hall 107 with overflow in Wallace Hall 111 \n12 p.m.: Cookout on Wallace Lawn and display of SylvanSport GO\nWallace Hall Lawn \n1 p.m.: Tours of Industrial and Graphic Design Studios\nWallace Hall 107 \n2 p.m.: Closing Remarks\nWallace Hall 107
URL:https://cadc.auburn.edu/event/41st-annual-design-interaction-symposium/
LOCATION:Wallace Hall\, United States
CATEGORIES:CADC,SIGD
END:VEVENT
BEGIN:VEVENT
DTSTART;TZID=America/Chicago:20190829T093000
DTEND;TZID=America/Chicago:20190829T110000
DTSTAMP:20260423T200103
CREATED:20190826T142044Z
LAST-MODIFIED:20260310T174827Z
UID:10214-1567071000-1567076400@cadc.auburn.edu
SUMMARY:Universal Studios Design Talk
DESCRIPTION:Come hear about internship opportunities with Universal Studios Orlando – Creative!
URL:https://cadc.auburn.edu/event/universal-studios-design-talk/
LOCATION:102 Dudley Hall
CATEGORIES:APLA,BSCI,CADC,SIGD
ATTACH;FMTTYPE=image/jpeg:https://cadc.auburn.edu/wp-content/uploads/2019/08/UniversalStudios_DesignTalk-02-scaled.jpg
END:VEVENT
BEGIN:VEVENT
DTSTART;TZID=America/Chicago:20190823T113000
DTEND;TZID=America/Chicago:20190823T130000
DTSTAMP:20260423T200103
CREATED:20190801T183100Z
LAST-MODIFIED:20260310T212017Z
UID:8047-1566559800-1566565200@cadc.auburn.edu
SUMMARY:CADC Welcome Week Lunch
DESCRIPTION:Lunch will be served for all CADC students in the Dudley Courtyard! Come enjoy free food and fellowship with your classmates!
URL:https://cadc.auburn.edu/event/cadc-welcome-week-lunch-2019/
LOCATION:Dudley Courtyard\, United States
CATEGORIES:APLA,BSCI,CADC,SIGD
ATTACH;FMTTYPE=image/jpeg:https://cadc.auburn.edu/wp-content/uploads/2019/08/Welcome-week-square.jpg
ORGANIZER;CN="Katherine Buck Chastain":MAILTO:kmb0023@auburn.edu
END:VEVENT
BEGIN:VEVENT
DTSTART;TZID=America/Chicago:20190816T123000
DTEND;TZID=America/Chicago:20190816T153000
DTSTAMP:20260423T200103
CREATED:20190805T022647Z
LAST-MODIFIED:20190814T203329Z
UID:8563-1565958600-1565969400@cadc.auburn.edu
SUMMARY:SIGD Retreat II
DESCRIPTION:
URL:https://cadc.auburn.edu/event/sigd-retreat-ii/
LOCATION:Dudley Commons-Dean’s Conference Room\, 361 Graves 361 Graves Dr.\, Auburn\, AL\, 36849
CATEGORIES:SIGD
END:VEVENT
BEGIN:VEVENT
DTSTART;TZID=America/Chicago:20190815T073000
DTEND;TZID=America/Chicago:20190815T153000
DTSTAMP:20260423T200103
CREATED:20190805T022313Z
LAST-MODIFIED:20190814T203236Z
UID:8558-1565854200-1565883000@cadc.auburn.edu
SUMMARY:SIGD Retreat I
DESCRIPTION:
URL:https://cadc.auburn.edu/event/sigd-retreat-i/
LOCATION:Biggin-Woltoz House\, 430 N. College St\, Auburn\, AL\, 36830
CATEGORIES:SIGD
END:VEVENT
BEGIN:VEVENT
DTSTART;TZID=America/Chicago:20190812T103000
DTEND;TZID=America/Chicago:20190812T120000
DTSTAMP:20260423T200103
CREATED:20190805T022005Z
LAST-MODIFIED:20190805T023017Z
UID:8555-1565605800-1565611200@cadc.auburn.edu
SUMMARY:SIGD Chairs Luncheon
DESCRIPTION:
URL:https://cadc.auburn.edu/event/sigd-chairs-luncheon/
LOCATION:Village Dining Hall\, 230 Beard-Eaves Court\, Auburn\, AL\, 36849
CATEGORIES:SIGD
END:VEVENT
BEGIN:VEVENT
DTSTART;TZID=America/Chicago:20190430T110000
DTEND;TZID=America/Chicago:20190505T160000
DTSTAMP:20260423T200103
CREATED:20190605T205440Z
LAST-MODIFIED:20190607T170125Z
UID:1211-1556622000-1557072000@cadc.auburn.edu
SUMMARY:Graphic Design Senior Show
DESCRIPTION:The Graphic Design Senior Show\, this year featuring the work of 17 students.
URL:https://cadc.auburn.edu/event/graphic-design-senior-show/
LOCATION:Wallace Hall 116\, 118\, United States
CATEGORIES:SIGD
END:VEVENT
BEGIN:VEVENT
DTSTART;TZID=America/Chicago:20190213T110000
DTEND;TZID=America/Chicago:20190213T140000
DTSTAMP:20260423T200103
CREATED:20190605T205445Z
LAST-MODIFIED:20190607T170129Z
UID:1221-1550055600-1550066400@cadc.auburn.edu
SUMMARY:Industrial Design Virtual Career Fair
DESCRIPTION:Please contact Crystal Jalil for registration information. Crystalj@auburn.edu
URL:https://cadc.auburn.edu/event/industrial-design-virtual-career-fair/
LOCATION:AL
CATEGORIES:SIGD
ATTACH;FMTTYPE=image/jpeg:https://cadc.auburn.edu/wp-content/uploads/2019/06/Industrial-Design-banner1542315969-2.jpg
END:VEVENT
BEGIN:VEVENT
DTSTART;TZID=America/Chicago:20181106T110000
DTEND;TZID=America/Chicago:20181106T120000
DTSTAMP:20260423T200103
CREATED:20190605T205449Z
LAST-MODIFIED:20190607T170131Z
UID:1232-1541502000-1541505600@cadc.auburn.edu
SUMMARY:Career Convo: Negotiating Salaries and Job Offers
DESCRIPTION:
URL:https://cadc.auburn.edu/event/career-convo-negotiating-salaries-and-job-offers-2/
LOCATION:230 Wallace Hall\, United States
CATEGORIES:SIGD
END:VEVENT
BEGIN:VEVENT
DTSTART;TZID=America/Chicago:20181025T110000
DTEND;TZID=America/Chicago:20181025T140000
DTSTAMP:20260423T200103
CREATED:20190605T205450Z
LAST-MODIFIED:20190607T170133Z
UID:1237-1540465200-1540476000@cadc.auburn.edu
SUMMARY:GDES Virtual Career Fair
DESCRIPTION:Log on between noon and 3:00pm at the following link: \n  \nhttps://www.careereco.com/User/LogIn?ReturnUrl=%2fUser%2fFairRegistration%3ffairId%3d7509820f-76c0-43cc-a095-a92301754445&fairId=7509820f-76c0-43cc-a095-a92301754445
URL:https://cadc.auburn.edu/event/gdes-virtual-career-fair/
LOCATION:online\, United States
CATEGORIES:SIGD
END:VEVENT
BEGIN:VEVENT
DTSTART;TZID=America/Chicago:20181023T110000
DTEND;TZID=America/Chicago:20181023T120000
DTSTAMP:20260423T200103
CREATED:20190605T205450Z
LAST-MODIFIED:20190607T170133Z
UID:1238-1540292400-1540296000@cadc.auburn.edu
SUMMARY:Career Convo: How/When Do I Follow Up?
DESCRIPTION:
URL:https://cadc.auburn.edu/event/career-convo-how-when-do-i-follow-up/
LOCATION:230 Wallace Hall\, United States
CATEGORIES:SIGD
END:VEVENT
BEGIN:VEVENT
DTSTART;TZID=America/Chicago:20181017T120000
DTEND;TZID=America/Chicago:20181017T130000
DTSTAMP:20260423T200103
CREATED:20190605T205451Z
LAST-MODIFIED:20190607T170133Z
UID:1241-1539777600-1539781200@cadc.auburn.edu
SUMMARY:Design Talk: Frog Design
DESCRIPTION:
URL:https://cadc.auburn.edu/event/design-talk-frog-design/
LOCATION:107 Wallace Hall\, United States
CATEGORIES:SIGD
END:VEVENT
BEGIN:VEVENT
DTSTART;TZID=America/Chicago:20181010T120000
DTEND;TZID=America/Chicago:20181010T130000
DTSTAMP:20260423T200103
CREATED:20190605T205452Z
LAST-MODIFIED:20190607T170134Z
UID:1242-1539172800-1539176400@cadc.auburn.edu
SUMMARY:Design Talk: L'Oréal
DESCRIPTION:
URL:https://cadc.auburn.edu/event/design-talk-loreal/
LOCATION:107 Wallace Hall\, United States
CATEGORIES:SIGD
END:VEVENT
BEGIN:VEVENT
DTSTART;TZID=America/Chicago:20181009T110000
DTEND;TZID=America/Chicago:20181009T120000
DTSTAMP:20260423T200103
CREATED:20190605T205452Z
LAST-MODIFIED:20190607T170134Z
UID:1243-1539082800-1539086400@cadc.auburn.edu
SUMMARY:Career Convo: Job Search Strategies
DESCRIPTION:
URL:https://cadc.auburn.edu/event/career-convo-job-search-strategies/
LOCATION:230 Wallace Hall\, United States
CATEGORIES:SIGD
END:VEVENT
BEGIN:VEVENT
DTSTART;TZID=America/Chicago:20180928T080000
DTEND;TZID=America/Chicago:20180928T143000
DTSTAMP:20260423T200103
CREATED:20190605T205456Z
LAST-MODIFIED:20190607T170135Z
UID:1251-1538121600-1538145000@cadc.auburn.edu
SUMMARY:40th annual Design Interaction
DESCRIPTION:This year\, we celebrate the 40th annual Design Interaction\, hosted by the School of Industrial and Graphic Design on September 28.  The day begins with talks by Adam Shilling (Convergent\, Atlanta) and Pree Kolari (Ebay\, San Francisco) at 9am in Student Activities Center\, room 141.  At noon\, there will be a cookout on Wallace Lawn\, followed by tours of the studios and closing remarks in Wallace Hall.  We hope to see you there!
URL:https://cadc.auburn.edu/event/40th-annual-design-interaction/
LOCATION:Student Center – room 141; Wallace Hall\, United States
CATEGORIES:SIGD
END:VEVENT
BEGIN:VEVENT
DTSTART;TZID=America/Chicago:20180927T120000
DTEND;TZID=America/Chicago:20180927T133000
DTSTAMP:20260423T200103
CREATED:20190605T205456Z
LAST-MODIFIED:20190607T170135Z
UID:1252-1538049600-1538055000@cadc.auburn.edu
SUMMARY:Designing at Dell Talk
DESCRIPTION:
URL:https://cadc.auburn.edu/event/designing-at-dell-talk/
LOCATION:111 Wallace Hall\, United States
CATEGORIES:SIGD
END:VEVENT
BEGIN:VEVENT
DTSTART;TZID=America/Chicago:20180925T110000
DTEND;TZID=America/Chicago:20180925T120000
DTSTAMP:20260423T200103
CREATED:20190605T205458Z
LAST-MODIFIED:20190607T170136Z
UID:1253-1537873200-1537876800@cadc.auburn.edu
SUMMARY:Career Convo: Resume and Cover Letters
DESCRIPTION:
URL:https://cadc.auburn.edu/event/career-convo-resume-and-cover-letters-2/
LOCATION:230 Wallace Hall\, United States
CATEGORIES:SIGD
END:VEVENT
BEGIN:VEVENT
DTSTART;TZID=America/Chicago:20180914T120000
DTEND;TZID=America/Chicago:20180914T133000
DTSTAMP:20260423T200103
CREATED:20190605T205458Z
LAST-MODIFIED:20190607T170136Z
UID:1256-1536926400-1536931800@cadc.auburn.edu
SUMMARY:Design Talk: ICONologic
DESCRIPTION:
URL:https://cadc.auburn.edu/event/design-talk-iconologic/
LOCATION:107 Wallace Hall\, United States
CATEGORIES:SIGD
END:VEVENT
BEGIN:VEVENT
DTSTART;TZID=America/Chicago:20180913T120000
DTEND;TZID=America/Chicago:20180913T130000
DTSTAMP:20260423T200103
CREATED:20190605T205458Z
LAST-MODIFIED:20190607T170136Z
UID:1257-1536840000-1536843600@cadc.auburn.edu
SUMMARY:Lockheed Martin Info Session
DESCRIPTION:
URL:https://cadc.auburn.edu/event/lockheed-martin-info-session/
LOCATION:111 Wallace Hall\, United States
CATEGORIES:SIGD
END:VEVENT
BEGIN:VEVENT
DTSTART;TZID=America/Chicago:20180911T110000
DTEND;TZID=America/Chicago:20180911T120000
DTSTAMP:20260423T200103
CREATED:20190605T205500Z
LAST-MODIFIED:20190607T170137Z
UID:1259-1536663600-1536667200@cadc.auburn.edu
SUMMARY:Career Convo: Inside a Hiring Manager's Mind
DESCRIPTION:
URL:https://cadc.auburn.edu/event/career-convo-inside-a-hiring-managers-mind/
LOCATION:230 Wallace Hall\, United States
CATEGORIES:SIGD
END:VEVENT
BEGIN:VEVENT
DTSTART;TZID=America/Chicago:20180708T090000
DTEND;TZID=America/Chicago:20180713T130000
DTSTAMP:20260423T200103
CREATED:20190605T205501Z
LAST-MODIFIED:20190607T170138Z
UID:1263-1531040400-1531486800@cadc.auburn.edu
SUMMARY:Design Workshop Session 2
DESCRIPTION:We are hosting two sessions of this Design Workshop for High Schools students. Session 1: June 17-22 Session 2: July 8-13 \n  \nAuburn University’s Industrial Design Camp offers an engaging program for rising 9th – 12th grade students interested in a professional career in Industrial Design. Hosted by the College of Architecture\, Design\, and Construction’s School of Industrial and Graphic Design\, this week-long resident camp offers an intensive design experience beginning with the identification of a design problem and rapidly progressing through idea generation\, concept development\, and exploratory prototyping. \n  \nEach day is filled with practical\, hands-on design activities\, technical demonstrations\, and in-depth instruction. Foundational skills such as sketching\, rendering\, and prototyping are emphasized throughout the week as participants develop their solution to the issue at hand. Working in dedicated studio spaces\, participants have access to photo\, computer\, and prototype fabrication labs. \n  \nTo learn more and register visit the Office of Professional and Continuing Education: Youth Programs. \n 
URL:https://cadc.auburn.edu/event/design-workshop-session-2/
LOCATION:Wallace Hall Rooms  232-233\, United States
CATEGORIES:SIGD
END:VEVENT
BEGIN:VEVENT
DTSTART;TZID=America/Chicago:20180617T090000
DTEND;TZID=America/Chicago:20180622T130000
DTSTAMP:20260423T200103
CREATED:20190605T205502Z
LAST-MODIFIED:20190607T170139Z
UID:1268-1529226000-1529672400@cadc.auburn.edu
SUMMARY:Design Workshop Session I
DESCRIPTION:We are hosting two sessions of this Design Workshop for High Schools students. Session 1: June 17-22 Session 2: July 8-13. \n  \nAuburn University’s Industrial Design Camp offers an engaging program for rising 9th – 12th grade students interested in a professional career in Industrial Design. Hosted by the College of Architecture\, Design\, and Construction’s School of Industrial and Graphic Design\, this week-long resident camp offers an intensive design experience beginning with the identification of a design problem and rapidly progressing through idea generation\, concept development\, and exploratory prototyping. \n  \nEach day is filled with practical\, hands-on design activities\, technical demonstrations\, and in-depth instruction. Foundational skills such as sketching\, rendering\, and prototyping are emphasized throughout the week as participants develop their solution to the issue at hand. Working in dedicated studio spaces\, participants have access to photo\, computer\, and prototype fabrication labs. \n  \nTo learn more and register visit the Office of Professional and Continuing Education: Youth Programs. \n 
URL:https://cadc.auburn.edu/event/design-workshop-session-i/
LOCATION:Wallace Hall Rooms  232-233\, United States
CATEGORIES:SIGD
END:VEVENT
BEGIN:VEVENT
DTSTART;TZID=America/Chicago:20180430T090000
DTEND;TZID=America/Chicago:20180504T160000
DTSTAMP:20260423T200103
CREATED:20190605T205504Z
LAST-MODIFIED:20190607T170140Z
UID:1272-1525078800-1525449600@cadc.auburn.edu
SUMMARY:GDES Senior Project Show
DESCRIPTION:
URL:https://cadc.auburn.edu/event/gdes-senior-project-show/
LOCATION:Wallace Hall Rooms 116-118\, United States
CATEGORIES:SIGD
END:VEVENT
BEGIN:VEVENT
DTSTART;TZID=America/Chicago:20180305T080000
DTEND;TZID=America/Chicago:20180309T160000
DTSTAMP:20260423T200103
CREATED:20190605T205510Z
LAST-MODIFIED:20190607T170142Z
UID:1283-1520236800-1520611200@cadc.auburn.edu
SUMMARY:Graphic Design Annual Student Juried Show
DESCRIPTION:The Graphic Design Juried Student Show is an annual exhibition and a competitive show featuring the year’s best work by Graphic Design students in the School of Industrial + Graphic Design. It will take place Monday\, March 5 through Friday\, March 9 at the Jan Dempsey Community Arts Center. Gail Anderson\, noted author and former Art Director for Rolling Stone magazine\, will judge the show and deliver a lecture on Thursday\, March 8 at 3:00 p.m. at the adjoining Harris Center. A reception follows from 4 p.m. until 6 p.m. All events are free and open to the public. The Jan Dempsey Community Arts Center is open daily from 8:00 a.m. to 5:00 p.m. \n  \nThanks to Big Communications for sponsoring this event. \n  \n 
URL:https://cadc.auburn.edu/event/graphic-design-annual-student-juried-show/
LOCATION:Jan Dempsey Community Arts Center\, United States
CATEGORIES:SIGD
END:VEVENT
BEGIN:VEVENT
DTSTART;TZID=America/Chicago:20180112T090000
DTEND;TZID=America/Chicago:20180112T110000
DTSTAMP:20260423T200103
CREATED:20190605T205513Z
LAST-MODIFIED:20190607T170143Z
UID:1289-1515747600-1515754800@cadc.auburn.edu
SUMMARY:Convocation with Guest Speaker David Wilder
DESCRIPTION:Join us as we welcome guest speaker David Wilder from PBS Washington\, DC. Convocation will take place in the Student Activities Center\, room 141.
URL:https://cadc.auburn.edu/event/convocation-with-guest-speaker-david-wilder/
LOCATION:Student Activities Center\, United States
CATEGORIES:SIGD
END:VEVENT
BEGIN:VEVENT
DTSTART;TZID=America/Chicago:20180110T070000
DTEND;TZID=America/Chicago:20180112T110000
DTSTAMP:20260423T200103
CREATED:20190605T205514Z
LAST-MODIFIED:20190607T170144Z
UID:1290-1515567600-1515754800@cadc.auburn.edu
SUMMARY:Designing Green Competition
DESCRIPTION:Join us for the Design Green Competition and after for the exhibition and cookout Friday\, January 12\, 10:00am –  12:00pm on Wallace Hall Lawn.
URL:https://cadc.auburn.edu/event/designing-green-competition/
LOCATION:Wallace Hall\, United States
CATEGORIES:SIGD
END:VEVENT
BEGIN:VEVENT
DTSTART;TZID=America/Chicago:20171109T080000
DTEND;TZID=America/Chicago:20171109T150000
DTSTAMP:20260423T200103
CREATED:20190605T205518Z
LAST-MODIFIED:20190607T170147Z
UID:1302-1510214400-1510239600@cadc.auburn.edu
SUMMARY:Industrial and Graphic Design Career Fair
DESCRIPTION:The CADC”s inaugural Career Fair for the School of Industrial and Graphic Design will be held November 9 in the Auburn University Alumni Center (317 S. College St.\, Auburn\, AL 36849). This is a chance for industry representatives and students to meet and discuss internship and career opportunities. \n  \nIf you are interested in exhibiting your firm at the Industrial and Graphic Design Career Fair\, please contact Crystal Jalil. 
URL:https://cadc.auburn.edu/event/industrial-and-graphic-design-career-fair/
LOCATION:Alumni Center\, United States
CATEGORIES:SIGD
END:VEVENT
BEGIN:VEVENT
DTSTART;TZID=America/Chicago:20170915T090000
DTEND;TZID=America/Chicago:20170915T110000
DTSTAMP:20260423T200103
CREATED:20190605T205527Z
LAST-MODIFIED:20190607T170153Z
UID:1328-1505466000-1505473200@cadc.auburn.edu
SUMMARY:SIGD Advisory Council Meeting
DESCRIPTION:
URL:https://cadc.auburn.edu/event/sigd-advisory-council-meeting/
LOCATION:Student Activities Center 104\, United States
CATEGORIES:SIGD
END:VEVENT
BEGIN:VEVENT
DTSTART;TZID=America/Chicago:20170915T080000
DTEND;TZID=America/Chicago:20170915T140000
DTSTAMP:20260423T200103
CREATED:20190605T205527Z
LAST-MODIFIED:20190607T170153Z
UID:1329-1505462400-1505484000@cadc.auburn.edu
SUMMARY:Design Interaction
DESCRIPTION:Featuring lectures by José Reyes\, Metaleap Creative\, Atlanta\, GA and John Anastasiadis\, Johnson & Johnson\, New Brunswick\, NJ \n  \nLectures begin at 9:00 am in the Student Activities Center room 104. A Wallace Lawn Cookout will be at Wallace Hall from 12:00–1:30 pm. Tours of Industrial and Graphic Design studios will run from 1:30 until 2:30 pm\, beginning at Wallace Hall room 207. The closing session with speakers begins at 2:30 pm in Wallace Hall room 107. For more information\, contact Sylvia Jackson at 334-844-2364.
URL:https://cadc.auburn.edu/event/design-interaction/
LOCATION:Student Activities Center 104\, United States
CATEGORIES:SIGD
END:VEVENT
END:VCALENDAR