BEGIN:VCALENDAR
VERSION:2.0
PRODID:-//College of Architecture, Design and Construction - ECPv6.3.3.1//NONSGML v1.0//EN
CALSCALE:GREGORIAN
METHOD:PUBLISH
X-WR-CALNAME:College of Architecture, Design and Construction
X-ORIGINAL-URL:https://cadc.auburn.edu
X-WR-CALDESC:Events for College of Architecture, Design and Construction
REFRESH-INTERVAL;VALUE=DURATION:PT1H
X-Robots-Tag:noindex
X-PUBLISHED-TTL:PT1H
BEGIN:VTIMEZONE
TZID:America/Chicago
BEGIN:DAYLIGHT
TZOFFSETFROM:-0600
TZOFFSETTO:-0500
TZNAME:CDT
DTSTART:20170312T080000
END:DAYLIGHT
BEGIN:STANDARD
TZOFFSETFROM:-0500
TZOFFSETTO:-0600
TZNAME:CST
DTSTART:20171105T070000
END:STANDARD
END:VTIMEZONE
BEGIN:VEVENT
DTSTART;TZID=America/Chicago:20171118T070000
DTEND;TZID=America/Chicago:20171118T093000
DTSTAMP:20260424T211347
CREATED:20190605T205516Z
LAST-MODIFIED:20210528T203527Z
UID:1295-1510988400-1510997400@cadc.auburn.edu
SUMMARY:CADC Alumni and Friends Tailgate – University of Louisiana at Monroe
DESCRIPTION:8:00 am until 10:30 am (11 am kickoff). Located in tent #42.
URL:https://cadc.auburn.edu/event/cadc-alumni-and-friends-tailgate-university-of-louisiana-at-monroe/
LOCATION:Tent #42\, United States
CATEGORIES:CADC
END:VEVENT
END:VCALENDAR