BEGIN:VCALENDAR
VERSION:2.0
PRODID:-//College of Architecture, Design and Construction - ECPv6.3.3.1//NONSGML v1.0//EN
CALSCALE:GREGORIAN
METHOD:PUBLISH
X-WR-CALNAME:College of Architecture, Design and Construction
X-ORIGINAL-URL:https://cadc.auburn.edu
X-WR-CALDESC:Events for College of Architecture, Design and Construction
REFRESH-INTERVAL;VALUE=DURATION:PT1H
X-Robots-Tag:noindex
X-PUBLISHED-TTL:PT1H
BEGIN:VTIMEZONE
TZID:America/Chicago
BEGIN:DAYLIGHT
TZOFFSETFROM:-0600
TZOFFSETTO:-0500
TZNAME:CDT
DTSTART:20170312T080000
END:DAYLIGHT
BEGIN:STANDARD
TZOFFSETFROM:-0500
TZOFFSETTO:-0600
TZNAME:CST
DTSTART:20171105T070000
END:STANDARD
END:VTIMEZONE
BEGIN:VEVENT
DTSTART;TZID=America/Chicago:20171113T143000
DTEND;TZID=America/Chicago:20171113T160000
DTSTAMP:20260423T124632
CREATED:20190605T205516Z
LAST-MODIFIED:20190607T170146Z
UID:1298-1510583400-1510588800@cadc.auburn.edu
SUMMARY:APLA 2017–2018 Speaker Series: | in between | Jennifer Feltman
DESCRIPTION:The School of Architecture\, Planning and Landscape Architectures 2017–2018 Lecture Series\, | in between |\, welcomes Jennifer M. Feltman on Monday\, November 13\, for this semester”s final lecture. Feltman is an assistant professor of medieval art and architecture in the Department of Art and Art History at the University of Alabama at Tuscaloosa. Her research focuses on the way in which works of medieval art\, whether architecture\, sculpture\, or manuscripts intersect with aspects of culture\, such as intellectual history\, religious practice and political discourse. She is co-editor of The Long Lives of Medieval Art and Architecture\, which is forthcoming from Routledge. Her lecture\, “The Form of Gothic: Geometry in Design and Construction\,” will be in Dudley B6 auditorium and is free and open to the public. The APLA lecture series is supported by practicing architects\, planners and landscape architects in the State of Alabama. For more about the APLA lecture series\, click here.
URL:https://cadc.auburn.edu/event/apla-2017-2018-speaker-series-in-between-jennifer-feltman/
CATEGORIES:APLA
END:VEVENT
END:VCALENDAR