BEGIN:VCALENDAR
VERSION:2.0
PRODID:-//College of Architecture, Design and Construction - ECPv6.3.3.1//NONSGML v1.0//EN
CALSCALE:GREGORIAN
METHOD:PUBLISH
X-WR-CALNAME:College of Architecture, Design and Construction
X-ORIGINAL-URL:https://cadc.auburn.edu
X-WR-CALDESC:Events for College of Architecture, Design and Construction
REFRESH-INTERVAL;VALUE=DURATION:PT1H
X-Robots-Tag:noindex
X-PUBLISHED-TTL:PT1H
BEGIN:VTIMEZONE
TZID:America/Chicago
BEGIN:DAYLIGHT
TZOFFSETFROM:-0600
TZOFFSETTO:-0500
TZNAME:CDT
DTSTART:20170312T080000
END:DAYLIGHT
BEGIN:STANDARD
TZOFFSETFROM:-0500
TZOFFSETTO:-0600
TZNAME:CST
DTSTART:20171105T070000
END:STANDARD
END:VTIMEZONE
BEGIN:VEVENT
DTSTART;TZID=America/Chicago:20170925T143000
DTEND;TZID=America/Chicago:20170925T160000
DTSTAMP:20260425T144910
CREATED:20190605T205525Z
LAST-MODIFIED:20190607T170152Z
UID:1323-1506349800-1506355200@cadc.auburn.edu
SUMMARY:APLA Fall 2017 Lecture Series – Kate Orff
DESCRIPTION:The School of Architecture\, Planning and Landscape Architecture”s 2017–2018 Lecture Series\, | in between|\, begins on Monday\, September 25\, with a lecture by Kate Orff. Professor and Director of Columbia University Graduate School of Architecture\, Planning\, and Preservation”s Urban Design Program\, Orff is responsible for founding and co-directing the GSAPP”s Urban Landscape Lab\, an applied research group focused on the role of design in urban ecosystems. She is also the founding Principal of New York –based landscape architecture studio SCAPE\, which focuses on biodiversity\, community-based change\, and sustainable design. Her lecture\, “Toward an Urban Ecology\,” is at 3:30 pm in Dudley B6 auditorium and is free and open to the public. The APLA lecture series is supported by practicing architects\, planners and landscape architects in the State of Alabama.
URL:https://cadc.auburn.edu/event/apla-fall-2017-lecture-series-kate-orff/
CATEGORIES:APLA
END:VEVENT
END:VCALENDAR