BEGIN:VCALENDAR
VERSION:2.0
PRODID:-//College of Architecture, Design and Construction - ECPv6.3.3.1//NONSGML v1.0//EN
CALSCALE:GREGORIAN
METHOD:PUBLISH
X-WR-CALNAME:College of Architecture, Design and Construction
X-ORIGINAL-URL:https://cadc.auburn.edu
X-WR-CALDESC:Events for College of Architecture, Design and Construction
REFRESH-INTERVAL;VALUE=DURATION:PT1H
X-Robots-Tag:noindex
X-PUBLISHED-TTL:PT1H
BEGIN:VTIMEZONE
TZID:America/Chicago
BEGIN:DAYLIGHT
TZOFFSETFROM:-0600
TZOFFSETTO:-0500
TZNAME:CDT
DTSTART:20140309T080000
END:DAYLIGHT
BEGIN:STANDARD
TZOFFSETFROM:-0500
TZOFFSETTO:-0600
TZNAME:CST
DTSTART:20141102T070000
END:STANDARD
END:VTIMEZONE
BEGIN:VEVENT
DTSTART;TZID=America/Chicago:20141010T064500
DTEND;TZID=America/Chicago:20141031T154500
DTSTAMP:20260423T060109
CREATED:20190605T205643Z
LAST-MODIFIED:20190607T170241Z
UID:1525-1412923500-1414770300@cadc.auburn.edu
SUMMARY:To Draw is To See: Drawings from Rome
DESCRIPTION:A Decade of Auburn APLA Students Study in the Eternal City An Exhibit in Dudley Gallery\n  \nClick here for more information on the exhibit.
URL:https://cadc.auburn.edu/event/to-draw-is-to-see-drawings-from-rome/
LOCATION:Dudley Gallery\, United States
CATEGORIES:APLA
END:VEVENT
BEGIN:VEVENT
DTSTART;TZID=America/Chicago:20141008T143000
DTEND;TZID=America/Chicago:20141008T160000
DTSTAMP:20260423T060109
CREATED:20190605T205643Z
LAST-MODIFIED:20190607T170241Z
UID:1526-1412778600-1412784000@cadc.auburn.edu
SUMMARY:Architecture Fall Lecture Series - Colin Cathcart
DESCRIPTION:City Scenario:  FOOD Colin Cathcart is Associate Professor at Fordham University and principal of Kiss + Cathcart\, Architects. His firm is dedicated to high standards of design\, economy and ecology. Key projects include: Sunworks Center rooftop environmental education greenhouse at PS 333; Solar 2 Green Energy\, Arts and Education Center; Stuyvesant Cove Environmental Learning Center; and photovoltaic production facilities for Chronar Corporation in New York and Alabama. For more information about Kiss + Carthcart\, Architects\, go to: http://www.kisscathcart.com. The “City Scenarios” lectures are supported by the Daniel F. Breeden Endowed Grant Program.
URL:https://cadc.auburn.edu/event/architecture-fall-lecture-series-colin-cathcart/
LOCATION:Dudley B6\, United States
CATEGORIES:APLA
END:VEVENT
END:VCALENDAR