BEGIN:VCALENDAR
VERSION:2.0
PRODID:-//College of Architecture, Design and Construction - ECPv6.3.3.1//NONSGML v1.0//EN
CALSCALE:GREGORIAN
METHOD:PUBLISH
X-WR-CALNAME:College of Architecture, Design and Construction
X-ORIGINAL-URL:https://cadc.auburn.edu
X-WR-CALDESC:Events for College of Architecture, Design and Construction
REFRESH-INTERVAL;VALUE=DURATION:PT1H
X-Robots-Tag:noindex
X-PUBLISHED-TTL:PT1H
BEGIN:VTIMEZONE
TZID:America/Chicago
BEGIN:DAYLIGHT
TZOFFSETFROM:-0600
TZOFFSETTO:-0500
TZNAME:CDT
DTSTART:20140309T080000
END:DAYLIGHT
BEGIN:STANDARD
TZOFFSETFROM:-0500
TZOFFSETTO:-0600
TZNAME:CST
DTSTART:20141102T070000
END:STANDARD
BEGIN:DAYLIGHT
TZOFFSETFROM:-0600
TZOFFSETTO:-0500
TZNAME:CDT
DTSTART:20150308T080000
END:DAYLIGHT
BEGIN:STANDARD
TZOFFSETFROM:-0500
TZOFFSETTO:-0600
TZNAME:CST
DTSTART:20151101T070000
END:STANDARD
END:VTIMEZONE
BEGIN:VEVENT
DTSTART;TZID=America/Chicago:20151026T150000
DTEND;TZID=America/Chicago:20151026T170000
DTSTAMP:20260422T002731
CREATED:20190605T205621Z
LAST-MODIFIED:20190607T170226Z
UID:1465-1445871600-1445878800@cadc.auburn.edu
SUMMARY:Architecture Lecture Series Continues on October 26
DESCRIPTION:The School of Architecture\, Planning and Landscape Architecture Fall 2015–Spring 2016 Lecture series\, “on the BRINK: beyond which success or catastrophe occurs” continues on Monday\, October 26 with a free\, public lecture by Guy Nordenson titled “Reading Structures.” Nordenson is Professor of Architecture and Structural Engineering at the Princeton University School of Architecture and is principal of the structural engineering practice\, Guy Nordenson and Associates\, in New York City\, NY. The practice focuses on a number of on-going collaborations with architects. Recently completed projects include Kimbell Art Museum Expansion in Fort Worth\, TX with Renzo Piano Building Workshop\, the New Museum of Contemporary Art in New York with SANAA and the Nelson-Atkins Museum of Art Expansion in Kansas City\, MO with Steven Holl Architects among others. Nordenson”s lecture will be in B6 auditorium in Dudley Commons at 4:00 p.m. The APLA lecture series is supported by practicing architects\, planners and landscape architects in the State of Alabama. For more information about the APLA Fall 2015–Spring 2016 lecture series\, click here.
URL:https://cadc.auburn.edu/event/architecture-lecture-series-continues-on-october-26/
CATEGORIES:APLA
END:VEVENT
BEGIN:VEVENT
DTSTART;TZID=America/Chicago:20151012T150000
DTEND;TZID=America/Chicago:20151012T160000
DTSTAMP:20260422T002731
CREATED:20190605T205622Z
LAST-MODIFIED:20190607T170226Z
UID:1466-1444662000-1444665600@cadc.auburn.edu
SUMMARY:Architecture Fall Lecture Series Begins October 12
DESCRIPTION:The School of Architecture\, Planning and Landscape Architecture Fall Lecture Series begins on Monday\, October 12\, at 4:00 p.m. with a lecture by David Heyman. Heymann is Harwell Hamilton Harris Regents Professor in Architecture and Teaching Professor at the University of Texas Austin. His lecture\, “An Un-flushable Urinal: The Aesthetic Potential of Sustainability\,” will be in Dudley B6 auditorium and is free and open to the public. The APLA lecture series is supported by practicing architects\, planners and landscape architects in the State of Alabama.
URL:https://cadc.auburn.edu/event/architecture-fall-lecture-series-begins-october-12/
LOCATION:Dudley B6\, United States
CATEGORIES:APLA
END:VEVENT
BEGIN:VEVENT
DTSTART;TZID=America/Chicago:20150806T063000
DTEND;TZID=America/Chicago:20150806T160000
DTSTAMP:20260422T002731
CREATED:20190605T205626Z
LAST-MODIFIED:20190607T170229Z
UID:1479-1438842600-1438876800@cadc.auburn.edu
SUMMARY:2015 Architecture Continuing Education Event
DESCRIPTION:REGISTER NOW! Registration for APLA’s 2015 Continuing Education Event at Auburn University is now available. Go to: https://auburn-csm.symplicity.com/events/aiaces15 \n  \nLocation: Chemistry Building – Room 151 \n  \nSchedule of Events: \n7:30 Breakfast and Registration 7:50 Welcome 8:00 APLA1501: “Bernt Nyberg: Endangered Architecture” Matthew Hall\, RA and Assistant Professor\, Auburn University Learning Units: 1 LU|HSW \n9:00 APLA1502: “Robotics\, 3D Printing and New Methods of Construction” Platt Boyd IV\, AIA\, LEED AP\, Founder – CEO of Branch Technology Learning Units: 1 LU|HSW (Pending) \n10:00 APLA 1503: “Solar Photovoltaic Systems” Daniel Tait\, CEO\, Alabama Center for Sustainable Energy Learning Units: 1 LU|HSW \n11:00 APLA1504: “Solutions for Existing Window Evaluation” Jacob Dunn\, Eskew + Dumez + Ripple\, New Orleans Learning Units: 1 Hour CEU/ HSW \n12:00 LUNCH Provided by Alagasco \n1:00 APLA1505: “Natural Gas and Tankless Hot Water Heaters” Eric McCain\, Managing Partner\, McCain Sales Learning Units: 1 Hour CEU/ HSW \n2:00 APLA1506: “Alabama Energy Code Update” Bourke Reeve\, Lead Trainer\, Southface Learning Units: 1.5 Hour CEU/ HSW \n3:30 APLA1507: “Strategies for Detailing High Performance Wall Systems” Ned Goodell\, Machado Silvetti\, Boston Learning Units: 1.5 Hour CEU/ HSW \n  \nParking: Please park in the Stadium Parking Deck. Enter the deck from Duncan Drive. No parking pass required for the Stadium Parking Deck for this event. \n  \n 
URL:https://cadc.auburn.edu/event/2015-architecture-continuing-education-event/
LOCATION:Chemistry Building Room 151\, United States
CATEGORIES:APLA
END:VEVENT
BEGIN:VEVENT
DTSTART;TZID=America/Chicago:20150514T173000
DTEND;TZID=America/Chicago:20150514T190000
DTSTAMP:20260422T002731
CREATED:20190605T205630Z
LAST-MODIFIED:20190607T170231Z
UID:1488-1431624600-1431630000@cadc.auburn.edu
SUMMARY:AU CADC AIA Alumni & Friends Reception
DESCRIPTION:AU CADC is hosting a reception for our alumni and friends attending the AIA National Convention. Join us as we celebrate Rural Studio receiving the Whitney M. Young\, Jr. award and see the debut of the short film Rural Studio: Love Stories. Reconnect with classmates\, friends and colleagues. Light refreshments will be served. Please let us know if you will attend by registering here. \n  \nSponsored by Regions Bank. 
URL:https://cadc.auburn.edu/event/au-cadc-aia-alumni-friends-reception/
LOCATION:Atlanta Marriott Marquis\, United States
CATEGORIES:APLA
END:VEVENT
BEGIN:VEVENT
DTSTART;TZID=America/Chicago:20150311T070000
DTEND;TZID=America/Chicago:20150312T160000
DTSTAMP:20260422T002731
CREATED:20190605T205632Z
LAST-MODIFIED:20190607T170233Z
UID:1495-1426057200-1426176000@cadc.auburn.edu
SUMMARY:2015 AU AIAS Internship Fair
DESCRIPTION:To register\, and for more information\, click here.
URL:https://cadc.auburn.edu/event/2015-au-aias-internship-fair/
LOCATION:Auburn University Hotel and Conference Center\, United States
CATEGORIES:APLA
END:VEVENT
BEGIN:VEVENT
DTSTART;TZID=America/Chicago:20150220T143000
DTEND;TZID=America/Chicago:20150220T160000
DTSTAMP:20260422T002731
CREATED:20190605T205633Z
LAST-MODIFIED:20190607T170234Z
UID:1497-1424442600-1424448000@cadc.auburn.edu
SUMMARY:Bargmann Lecture
DESCRIPTION:Julie Bargmann\, founding principal of D.I.R.T. studio\, will present the first lecture in the School of Architecture\, Planning and Landscape Architecture’s Spring 2015 Lecture Series on Friday\, February 20\, at 3:30 p.m. in B6 Dudley Commons. Bargmann\, an internationally recognized innovative designer in building regenerative landscapes\, is also an associate professor of Landscape Architecture in the School of Architecture at the University of Virginia. Her lecture\, “Working Traces\,” is free and open to the public. The APLA lecture series is supported by practicing architects\, planners and landscape architects in the State of Alabama.
URL:https://cadc.auburn.edu/event/bargmann-lecture/
CATEGORIES:APLA
ATTACH;FMTTYPE=image/jpeg:https://cadc.auburn.edu/wp-content/uploads/2019/06/bargmann1423843330.jpg
END:VEVENT
BEGIN:VEVENT
DTSTART;TZID=America/Chicago:20141122T190000
DTEND;TZID=America/Chicago:20141122T220000
DTSTAMP:20260422T002731
CREATED:20190605T205639Z
LAST-MODIFIED:20260310T213041Z
UID:1512-1416682800-1416693600@cadc.auburn.edu
SUMMARY:ASLA Alumni Event
DESCRIPTION:Make sure to stop by the CADC table at during the ASLA Alumni Tailgate Celebration. \n  \nTickets are required by ASLA. For complete information\, click here.
URL:https://cadc.auburn.edu/event/asla-alumni-event/
LOCATION:Mile High Station – Denver\, CO\, United States
CATEGORIES:APLA
END:VEVENT
BEGIN:VEVENT
DTSTART;TZID=America/Chicago:20141031T080000
DTEND;TZID=America/Chicago:20141031T200000
DTSTAMP:20260422T002731
CREATED:20190605T205640Z
LAST-MODIFIED:20190607T170239Z
UID:1516-1414742400-1414785600@cadc.auburn.edu
SUMMARY:26th Annual Pumpkin Carve
DESCRIPTION:Pumpkin Carve is an annual\, community-wide event hosted by Auburn’s chapter of the American Institute of Architecture Students. This year’s event takes place on Halloween. In addition to carving your own pumpkin\, the day will be filled with music\, festive food\, and lively carnival games. Evening activities include costume competitions\, a silent auction\, and the illumination of all the carved pumpkins. Use #PC26 when posting on social media. \n  \nPumpkin Carve Schedule \n  \n9:00 am           The carving begins: Pumpkins and t-shirts go on sale to students and faculty \n  \n9–10 am          Elementary school students from the Auburn area learn about this exciting event while carving a                           pumpkin with an APLA student \n  \n11:00 am         Kids Costume Parade \n  \n11:30 am         Hallowieners (hot dogs\, hamburgers\, chips\, and drinks) on sale for lunch \n                        Dessert Cookoff \n                        College Costume Competition \n  \n12:00 pm         Pictures with Aubie! \n  \n3:00 pm           Pumpkins\, t-shirts\, raffles\, and more on sale for the public \n  \n5:00pm            Hallowieners on sale for dinner \n                        Dessert Cookoff \n  \n6:00pm            Pumpkins are lit and judging begins \n  \n6:30pm            Kids Costume Competition \n  \n7:00pm            Winners for the pumpkin-carving contest and silent auction are announced\, prizes awarded\, and                           sponsors recognized \n  \n8:00pm            Winning pumpkins will be auctioned off to benefit the American Institute of Architecture Students \n                        \n                                All other carved pumpkins will go on sale for a minimum $5 donation. \n  \n  \nOther activities (subject to change) throughout the day include: \n\nSilent Auction\n\n\nCarnival Games\n\n\nFace Painting\n\n\nMovies\n\n\nPie-a-Professor\n\n\nPhoto Booth
URL:https://cadc.auburn.edu/event/26th-annual-pumpkin-carve/
LOCATION:Near Dudley Hall\, United States
CATEGORIES:APLA
END:VEVENT
BEGIN:VEVENT
DTSTART;TZID=America/Chicago:20141027T143000
DTEND;TZID=America/Chicago:20141027T160000
DTSTAMP:20260422T002731
CREATED:20190605T205641Z
LAST-MODIFIED:20190607T170239Z
UID:1519-1414420200-1414425600@cadc.auburn.edu
SUMMARY:Architecture Fall Lecture Series - Marshall Brown
DESCRIPTION:Marshall Brown is an Associate Professor of Architecture in the College of Architecture at the Illinois Institute of Technology and Principal of Marshall Brown Projects\, Inc. in Chicago\, IL. A recognized scholar and practitioner of urban design. http://marshallbrownprojects.com/
URL:https://cadc.auburn.edu/event/architecture-fall-lecture-series-marshall-brown/
LOCATION:Dudley B6\, United States
CATEGORIES:APLA
END:VEVENT
BEGIN:VEVENT
DTSTART;TZID=America/Chicago:20141013T143000
DTEND;TZID=America/Chicago:20141013T160000
DTSTAMP:20260422T002731
CREATED:20190605T205643Z
LAST-MODIFIED:20190607T170241Z
UID:1524-1413210600-1413216000@cadc.auburn.edu
SUMMARY:Architecture Fall Lecture Series - Carie Penabad
DESCRIPTION:Carie Penabad is a founding principal of Cúre & Penabad Architecture and Urban Design in Miami\, FL and a Professor at the University of Miami School of Architecture. She was the Louis I. Kahn Visiting Assistant Professor of Architecture Design at Yale University in Spring 2013. Her lecture is titled “Analogous Thoughts.” For more information\, visit http://www.cureandpenabad.com/.
URL:https://cadc.auburn.edu/event/architecture-fall-lecture-series-carie-penabad/
LOCATION:Dudley B6\, United States
CATEGORIES:APLA
END:VEVENT
BEGIN:VEVENT
DTSTART;TZID=America/Chicago:20141010T064500
DTEND;TZID=America/Chicago:20141031T154500
DTSTAMP:20260422T002731
CREATED:20190605T205643Z
LAST-MODIFIED:20190607T170241Z
UID:1525-1412923500-1414770300@cadc.auburn.edu
SUMMARY:To Draw is To See: Drawings from Rome
DESCRIPTION:A Decade of Auburn APLA Students Study in the Eternal City An Exhibit in Dudley Gallery\n  \nClick here for more information on the exhibit.
URL:https://cadc.auburn.edu/event/to-draw-is-to-see-drawings-from-rome/
LOCATION:Dudley Gallery\, United States
CATEGORIES:APLA
END:VEVENT
BEGIN:VEVENT
DTSTART;TZID=America/Chicago:20141008T143000
DTEND;TZID=America/Chicago:20141008T160000
DTSTAMP:20260422T002731
CREATED:20190605T205643Z
LAST-MODIFIED:20190607T170241Z
UID:1526-1412778600-1412784000@cadc.auburn.edu
SUMMARY:Architecture Fall Lecture Series - Colin Cathcart
DESCRIPTION:City Scenario:  FOOD Colin Cathcart is Associate Professor at Fordham University and principal of Kiss + Cathcart\, Architects. His firm is dedicated to high standards of design\, economy and ecology. Key projects include: Sunworks Center rooftop environmental education greenhouse at PS 333; Solar 2 Green Energy\, Arts and Education Center; Stuyvesant Cove Environmental Learning Center; and photovoltaic production facilities for Chronar Corporation in New York and Alabama. For more information about Kiss + Carthcart\, Architects\, go to: http://www.kisscathcart.com. The “City Scenarios” lectures are supported by the Daniel F. Breeden Endowed Grant Program.
URL:https://cadc.auburn.edu/event/architecture-fall-lecture-series-colin-cathcart/
LOCATION:Dudley B6\, United States
CATEGORIES:APLA
END:VEVENT
END:VCALENDAR