BEGIN:VCALENDAR
VERSION:2.0
PRODID:-//College of Architecture, Design and Construction - ECPv6.3.3.1//NONSGML v1.0//EN
CALSCALE:GREGORIAN
METHOD:PUBLISH
X-WR-CALNAME:College of Architecture, Design and Construction
X-ORIGINAL-URL:https://cadc.auburn.edu
X-WR-CALDESC:Events for College of Architecture, Design and Construction
REFRESH-INTERVAL;VALUE=DURATION:PT1H
X-Robots-Tag:noindex
X-PUBLISHED-TTL:PT1H
BEGIN:VTIMEZONE
TZID:America/Chicago
BEGIN:DAYLIGHT
TZOFFSETFROM:-0600
TZOFFSETTO:-0500
TZNAME:CDT
DTSTART:20170312T080000
END:DAYLIGHT
BEGIN:STANDARD
TZOFFSETFROM:-0500
TZOFFSETTO:-0600
TZNAME:CST
DTSTART:20171105T070000
END:STANDARD
END:VTIMEZONE
BEGIN:VEVENT
DTSTART;TZID=America/Chicago:20170902T143000
DTEND;TZID=America/Chicago:20170902T163000
DTSTAMP:20260425T212840
CREATED:20190605T205528Z
LAST-MODIFIED:20190607T170153Z
UID:1330-1504362600-1504369800@cadc.auburn.edu
SUMMARY:CADC Alumni and Friends Tailgate – Georgia Southern
DESCRIPTION:Tent #42. Opens at 3:30 pm; closes an hour before the 6:30 pm kickoff.
URL:https://cadc.auburn.edu/event/cadc-alumni-and-friends-tailgate-georgia-southern/
LOCATION:Tent #42\, United States
CATEGORIES:CADC
END:VEVENT
BEGIN:VEVENT
DTSTART;TZID=America/Chicago:20170915T080000
DTEND;TZID=America/Chicago:20170915T140000
DTSTAMP:20260425T212840
CREATED:20190605T205527Z
LAST-MODIFIED:20190607T170153Z
UID:1329-1505462400-1505484000@cadc.auburn.edu
SUMMARY:Design Interaction
DESCRIPTION:Featuring lectures by José Reyes\, Metaleap Creative\, Atlanta\, GA and John Anastasiadis\, Johnson & Johnson\, New Brunswick\, NJ \n  \nLectures begin at 9:00 am in the Student Activities Center room 104. A Wallace Lawn Cookout will be at Wallace Hall from 12:00–1:30 pm. Tours of Industrial and Graphic Design studios will run from 1:30 until 2:30 pm\, beginning at Wallace Hall room 207. The closing session with speakers begins at 2:30 pm in Wallace Hall room 107. For more information\, contact Sylvia Jackson at 334-844-2364.
URL:https://cadc.auburn.edu/event/design-interaction/
LOCATION:Student Activities Center 104\, United States
CATEGORIES:SIGD
END:VEVENT
BEGIN:VEVENT
DTSTART;TZID=America/Chicago:20170915T090000
DTEND;TZID=America/Chicago:20170915T110000
DTSTAMP:20260425T212840
CREATED:20190605T205527Z
LAST-MODIFIED:20190607T170153Z
UID:1328-1505466000-1505473200@cadc.auburn.edu
SUMMARY:SIGD Advisory Council Meeting
DESCRIPTION:
URL:https://cadc.auburn.edu/event/sigd-advisory-council-meeting/
LOCATION:Student Activities Center 104\, United States
CATEGORIES:SIGD
END:VEVENT
BEGIN:VEVENT
DTSTART;TZID=America/Chicago:20170915T100000
DTEND;TZID=America/Chicago:20170915T110000
DTSTAMP:20260425T212840
CREATED:20190605T205527Z
LAST-MODIFIED:20190607T170153Z
UID:1327-1505469600-1505473200@cadc.auburn.edu
SUMMARY:Employer Information Session
DESCRIPTION:We are proud to announce the beginning of our Employer Information Sessions. For our first session\, we welcome M. Hays Layerd\, Auburn Architecture graduate of 2002 and Principal and Creative Director for Architects Lewis + Whitlock. \n  \nFor more information on this event\, please contact:  \nCrystal Jalil \n334-844-5379 \ncrystalj@auburn.edu
URL:https://cadc.auburn.edu/event/employer-information-session/
CATEGORIES:CADC
END:VEVENT
BEGIN:VEVENT
DTSTART;TZID=America/Chicago:20170916T103000
DTEND;TZID=America/Chicago:20170916T133000
DTSTAMP:20260425T212840
CREATED:20190605T205526Z
LAST-MODIFIED:20190607T170152Z
UID:1326-1505557800-1505568600@cadc.auburn.edu
SUMMARY:CADC Tailgate for Fall Family Weekend 2017: Auburn vs Mercer
DESCRIPTION:The College of Architecture\, Design and Construction invites parents and families of CADC students to tailgate with the faculty\, students and staff. Light refreshments provided. Open 11:30 am until 2:30 pm. Located at tent #42.
URL:https://cadc.auburn.edu/event/cadc-tailgate-for-fall-family-weekend-2017-auburn-vs-mercer/
LOCATION:Tent #42\, United States
CATEGORIES:CADC
END:VEVENT
BEGIN:VEVENT
DTSTART;TZID=America/Chicago:20170922T100000
DTEND;TZID=America/Chicago:20170922T110000
DTSTAMP:20260425T212840
CREATED:20190605T205525Z
LAST-MODIFIED:20190607T170152Z
UID:1325-1506074400-1506078000@cadc.auburn.edu
SUMMARY:Employer Information Session: Williams Blackstock
DESCRIPTION:On Friday\, September 22\, we welcome a representative from Williams Blackstock for this week’s employer information session. \n  \nFor more information on this event\, please contact: \nCrystal Jalil \n334-844-5379 \ncrystalj@auburn.edu
URL:https://cadc.auburn.edu/event/employer-information-session-williams-blackstock/
CATEGORIES:CADC
END:VEVENT
BEGIN:VEVENT
DTSTART;TZID=America/Chicago:20170922T120000
DTEND;TZID=America/Chicago:20170923T110000
DTSTAMP:20260425T212840
CREATED:20190605T205525Z
LAST-MODIFIED:20210528T203855Z
UID:1324-1506081600-1506164400@cadc.auburn.edu
SUMMARY:Workshop in Classical Architectural Design
DESCRIPTION:The Institute of Classical Architecture & Art in collaboration with the Auburn University School of Architecture\, Planning and Landscape Architecture will present a two-day Workshop in Classical Architectural Design on September 22 (1 until 7 pm) and September 23 (9 am until 12 pm) at Dudley Hall and other campus locations.  This workshop introduces the practice of classical architectural design with emphasis on its application in the design of new buildings and places. Continuing education credit will be offered: six HSW LUs for full program attendance. \n  \nRegistration for professionals is $75. To register\, please click here.  \n  \nThe workshop is free for Auburn University students; students should e-mail their names\, addresses\, and phone numbers to amarshall@classicist.org to register. \n  \nThe Workshop in Classical Architectural Design at Auburn University is generously sponsored by McALPINE. \n  \nClick here for more information. 
URL:https://cadc.auburn.edu/event/workshop-in-classical-architectural-design/
LOCATION:Auburn University\, United States
CATEGORIES:APLA
END:VEVENT
BEGIN:VEVENT
DTSTART;TZID=America/Chicago:20170925T143000
DTEND;TZID=America/Chicago:20170925T160000
DTSTAMP:20260425T212840
CREATED:20190605T205525Z
LAST-MODIFIED:20190607T170152Z
UID:1323-1506349800-1506355200@cadc.auburn.edu
SUMMARY:APLA Fall 2017 Lecture Series – Kate Orff
DESCRIPTION:The School of Architecture\, Planning and Landscape Architecture”s 2017–2018 Lecture Series\, | in between|\, begins on Monday\, September 25\, with a lecture by Kate Orff. Professor and Director of Columbia University Graduate School of Architecture\, Planning\, and Preservation”s Urban Design Program\, Orff is responsible for founding and co-directing the GSAPP”s Urban Landscape Lab\, an applied research group focused on the role of design in urban ecosystems. She is also the founding Principal of New York –based landscape architecture studio SCAPE\, which focuses on biodiversity\, community-based change\, and sustainable design. Her lecture\, “Toward an Urban Ecology\,” is at 3:30 pm in Dudley B6 auditorium and is free and open to the public. The APLA lecture series is supported by practicing architects\, planners and landscape architects in the State of Alabama.
URL:https://cadc.auburn.edu/event/apla-fall-2017-lecture-series-kate-orff/
CATEGORIES:APLA
END:VEVENT
BEGIN:VEVENT
DTSTART;TZID=America/Chicago:20170929T100000
DTEND;TZID=America/Chicago:20170929T110000
DTSTAMP:20260425T212840
CREATED:20190605T205524Z
LAST-MODIFIED:20190607T170152Z
UID:1322-1506679200-1506682800@cadc.auburn.edu
SUMMARY:Employer Information Session: Disney Imagineering
DESCRIPTION:The CADC welcomes a representative from Disney Imagineering for this week’s Employer Information Session. \n  \nFor more information\, contact: \nCrystal Jalil \n334-844-5379 \ncrystalj@auburn.edu
URL:https://cadc.auburn.edu/event/employer-information-session-disney-imagineering/
CATEGORIES:CADC
END:VEVENT
BEGIN:VEVENT
DTSTART;TZID=America/Chicago:20170930T123000
DTEND;TZID=America/Chicago:20170930T153000
DTSTAMP:20260425T212840
CREATED:20190605T205523Z
LAST-MODIFIED:20190607T170151Z
UID:1320-1506774600-1506785400@cadc.auburn.edu
SUMMARY:CADC Alumni and Friends Tailgate – Mississippi State
DESCRIPTION:Located at tent #42. 5pm kickoff.
URL:https://cadc.auburn.edu/event/cadc-alumni-and-friends-tailgate-mississippi-state/
LOCATION:Tent #42\, United States
CATEGORIES:CADC
END:VEVENT
END:VCALENDAR